BEGIN:VCALENDAR
VERSION:2.0
PRODID:-//ChamberMaster//Event Calendar 2.0//EN
METHOD:PUBLISH
X-PUBLISHED-TTL:P3D
REFRESH-INTERVAL:P3D
CALSCALE:GREGORIAN
BEGIN:VEVENT
DTSTART:20191115T000000Z
DTEND:20191115T030000Z
X-MICROSOFT-CDO-ALLDAYEVENT:FALSE
SUMMARY:Class: Watercolor Christmas Card (Pre Register)
DESCRIPTION:Class #4001-F19\n\nInstructor: Barb Smith\n\n\n\nA GREAT time to try something new or learn new techniques. This is a landscape scene. Participants should bring paper towels. All other materials are provided. Class Dates: November 14 - 6:00 p.m. to 9:00 p.m.\; November 15 from 9:00 a.m. to 12:00 p.m. Sample in Community Education office.
X-ALT-DESC;FMTTYPE=text/html:Class #4001-F19<br />\nInstructor: Barb Smith<br />\n<br />\nA GREAT time to try something new or learn new techniques. This is a landscape scene. Participants should bring paper towels. All other materials are provided. Class Dates: November 14 - 6:00 p.m. to 9:00 p.m.\; November 15 from 9:00 a.m. to 12:00 p.m. Sample in Community Education office.
LOCATION:Roosevelt Education Center\, Community Education\, 340 Friberg Avenue\, Fergus Falls
UID:e.314.35808
SEQUENCE:3
DTSTAMP:20260422T190218Z
URL:https://business.fergusfalls.com/events/details/class-watercolor-christmas-card-pre-register-35808
END:VEVENT

END:VCALENDAR
