BEGIN:VCALENDAR
VERSION:2.0
PRODID:-//ChamberMaster//Event Calendar 2.0//EN
METHOD:PUBLISH
X-PUBLISHED-TTL:P3D
REFRESH-INTERVAL:P3D
CALSCALE:GREGORIAN
BEGIN:VEVENT
DTSTART:20160713T150000Z
DTEND:20160713T170000Z
X-MICROSOFT-CDO-ALLDAYEVENT:FALSE
SUMMARY:Clay for All Ages - Kaddatz Gallery
DESCRIPTION:A beginners clay class for all ages. Class will meet twice\, July 13th and 20th\, from 10am-12pm. Students will learn basic hand building techniques in clay and then have fun making their own creations. A great workshops for kids or adults who are just starting out.
X-ALT-DESC;FMTTYPE=text/html:<span style="font-size:14px\;"><span style="font-family: &quot\;Open Sans&quot\;\, sans-serif\; line-height: 30px\;">A beginners clay class for all ages. Class will meet twice\, July 13th and 20th\, from 10am-12pm. Students will learn basic hand building techniques in clay and then have fun making their own creations. A great workshops for kids or adults who are just starting out.</span></span>
LOCATION:Kaddatz Gallery - 111 West Lincoln Avenue
UID:e.314.32849
SEQUENCE:3
DTSTAMP:20260425T125956Z
URL:https://business.fergusfalls.com/events/details/clay-for-all-ages-kaddatz-gallery-07-13-2016-32849
END:VEVENT

END:VCALENDAR
