BEGIN:VCALENDAR
VERSION:2.0
PRODID:-//ChamberMaster//Event Calendar 2.0//EN
METHOD:PUBLISH
X-PUBLISHED-TTL:P3D
REFRESH-INTERVAL:P3D
CALSCALE:GREGORIAN
BEGIN:VEVENT
DTSTART:20160716T133000Z
DTEND:20160716T210000Z
X-MICROSOFT-CDO-ALLDAYEVENT:FALSE
SUMMARY:CLB Youth Workers Continuing Education - Bethel Lutheran Church
DESCRIPTION:The CLBA biennial convention is happening in 2016 and our denominational leadership continues to make it possible to bring in some great outside resources. I want to encourage you to attend the convention as a delegate from your church. \n\n\n\nWe are bringing Back Dr. Chap Clark who will be built on what he shared in 2014 with a ton of new resources and insights. In addition\, we are working on several other ways to utilize his time with us. \n\n\n\nAbout his seminar: Adoptive Youth Ministry: Reaching Emerging Generations in an Atomized World" (Pt 1 and 2)\n\n\n\nIntense attention has been devoted to the realization that many if not most of our students are leaving active faith when they graduate from high school\, even those who were deeply involved and invested in the youth ministry. In addition to that\, we know that even our "best" kids often have a shallow understanding of their faith\, and the culture all of our students are swimming in has become increasingly secular. \n\n\n\nOur response to these issues\, and with the culture pressing us into more and more structural fragmentation and atomization\, our tendency is continue to treat students\, and their faith journey\, as individuals. Adoptive Youth Ministry\, a new way to theologically ground and re-imagine our work and ministry with the goal of helping our young to live into their adoption as God's children in Christ (John 1:12)\, where students have not only a nurturing community\, but also experience a place at the table of God's household. \n\n\n\nFor more info\, go to http://www.clba.org/ywce/ \n\nSchedule (Tentative)\n\n\n\nYouth Worker Continuing Education with Dr Chap Clark and Luncheon\n\n\n\n8:30-11:30 Session #1 \n\n\n\n11:45-1:00 Youth Worker Lunch\n\n\n\nPresentations:\n\n1. YC17\n\n2. Thrivent Luther 500 Year Celebration Curriculum and Service Project Grant Presentation\n\n3. Youth Worker Mentor \n\n\n\n1:15 - 4:00 Session #2
X-ALT-DESC;FMTTYPE=text/html:<span style="color: rgb(75\, 79\, 86)\; font-family: helvetica\, arial\, sans-serif\; font-size: 14px\; line-height: 18.76px\;">The CLBA biennial convention is happening in 2016 and our denominational leadership continues to make it possible to bring in some great outside resources. I want to encourage you to attend the convention as a delegate from your church.&nbsp\;</span><br style="color: rgb(75\, 79\, 86)\; font-family: helvetica\, arial\, sans-serif\; font-size: 14px\; line-height: 18.76px\;" />\n<br style="color: rgb(75\, 79\, 86)\; font-family: helvetica\, arial\, sans-serif\; font-size: 14px\; line-height: 18.76px\;" />\n<span style="color: rgb(75\, 79\, 86)\; font-family: helvetica\, arial\, sans-serif\; font-size: 14px\; line-height: 18.76px\;">We are bringing Back Dr. Chap Clark who will be built on what he shared in 2014 with a ton of new resources and insights. In addition\, we are working on several other ways to utilize his time with us.&nbsp\;</span><br style="color: rgb(75\, 79\, 86)\; font-family: helvetica\, arial\, sans-serif\; font-size: 14px\; line-height: 18.76px\;" />\n<br style="color: rgb(75\, 79\, 86)\; font-family: helvetica\, arial\, sans-serif\; font-size: 14px\; line-height: 18.76px\;" />\n<span style="color: rgb(75\, 79\, 86)\; font-family: helvetica\, arial\, sans-serif\; font-size: 14px\; line-height: 18.76px\;">About his seminar: Adoptive Youth Ministry: Reaching Emerging Generations in an Atomized World&quot\; (Pt 1 and 2)</span><br style="color: rgb(75\, 79\, 86)\; font-family: helvetica\, arial\, sans-serif\; font-size: 14px\; line-height: 18.76px\;" />\n<br style="color: rgb(75\, 79\, 86)\; font-family: helvetica\, arial\, sans-serif\; font-size: 14px\; line-height: 18.76px\;" />\n<span style="color: rgb(75\, 79\, 86)\; font-family: helvetica\, arial\, sans-serif\; font-size: 14px\; line-height: 18.76px\;">Intense attention has been devoted to the realization that many if not most of our students are leaving active faith when they graduate from high school\, even those who</span><span class="text_exposed_show" style="display: inline\; color: rgb(75\, 79\, 86)\; font-family: helvetica\, arial\, sans-serif\; font-size: 14px\; line-height: 18.76px\;">&nbsp\;were deeply involved and invested in the youth ministry. In addition to that\, we know that even our &quot\;best&quot\; kids often have a shallow understanding of their faith\, and the culture all of our students are swimming in has become increasingly secular.&nbsp\;<br />\n<br />\nOur response to these issues\, and with the culture pressing us into more and more structural fragmentation and atomization\, our tendency is continue to treat students\, and their faith journey\, as individuals. Adoptive Youth Ministry\, a new way to theologically ground and re-imagine our work and ministry with the goal of helping our young to live into their adoption as God&#39\;s children in Christ (John 1:12)\, where students have not only a nurturing community\, but also experience a place at the table of God&#39\;s household.&nbsp\;<br />\n<br />\nFor more info\, go to&nbsp\;<a href="http://www.clba.org/ywce/" rel="nofollow nofollow" style="color: rgb(54\, 88\, 153)\; cursor: pointer\; text-decoration: none\;" target="_blank">http://www.clba.org/ywce/</a>&nbsp\;<br />\nSchedule (Tentative)<br />\n<br />\nYouth Worker Continuing Education with Dr Chap Clark and Luncheon<br />\n<br />\n8:30-11:30 Session #1&nbsp\;<br />\n<br />\n11:45-1:00 Youth Worker Lunch<br />\n<br />\nPresentations:<br />\n1. YC17<br />\n2. Thrivent Luther 500 Year Celebration Curriculum and Service Project Grant Presentation<br />\n3. Youth Worker Mentor&nbsp\;<br />\n<br />\n1:15 - 4:00 Session #2</span>
LOCATION:Bethel Lutheran Church 702 W Alcott Ave\, Fergus Falls\, Minnesota 56537
UID:e.314.32916
SEQUENCE:3
DTSTAMP:20260425T130157Z
URL:https://business.fergusfalls.com/events/details/clb-youth-workers-continuing-education-bethel-lutheran-church-07-16-2016-32916
END:VEVENT

END:VCALENDAR
