BEGIN:VCALENDAR
VERSION:2.0
PRODID:-//ChamberMaster//Event Calendar 2.0//EN
METHOD:PUBLISH
X-PUBLISHED-TTL:P3D
REFRESH-INTERVAL:P3D
CALSCALE:GREGORIAN
BEGIN:VEVENT
DTSTART:20160722T170000Z
DTEND:20160722T190000Z
X-MICROSOFT-CDO-ALLDAYEVENT:FALSE
SUMMARY:Client Appreciation Event
DESCRIPTION:Ryan Hanson Homes is having a Client Appreciation Event!\n\nSweet rewards for being the best clients around! Please mark your calendars and be sure to stop by to make your own sundaes or cones and hang out with the Ryan Hanson Homes team for a bit. We would love the opportunity to say THANKS AGAIN for working with us!#rhhclientappreciation #ryanhansonhomes
X-ALT-DESC;FMTTYPE=text/html:<span style="color: rgb(75\, 79\, 86)\; font-family: helvetica\, arial\, sans-serif\; font-size: 14px\; line-height: 18.76px\;">Ryan Hanson Homes is having a Client Appreciation Event!<br />\nSweet rewards for being the best clients around! Please mark your calendars and be sure to stop by to make your own sundaes or cones and hang out with the Ryan Hanson Homes team for a bit. We would love the opportunity to say THANKS AGAIN for working with us!</span><a class="_58cn" data-ft="{&quot\;tn&quot\;:&quot\;*N&quot\;\,&quot\;type&quot\;:104}" href="https://www.facebook.com/hashtag/rhhclientappreciation" style="color: rgb(54\, 88\, 153)\; cursor: pointer\; text-decoration: none\; font-family: helvetica\, arial\, sans-serif\; font-size: 14px\; line-height: 18.76px\;">#rhhclientappreciation</a><span style="color: rgb(75\, 79\, 86)\; font-family: helvetica\, arial\, sans-serif\; font-size: 14px\; line-height: 18.76px\;">&nbsp\;</span><a class="_58cn" data-ft="{&quot\;tn&quot\;:&quot\;*N&quot\;\,&quot\;type&quot\;:104}" href="https://www.facebook.com/hashtag/ryanhansonhomes" style="color: rgb(54\, 88\, 153)\; cursor: pointer\; text-decoration: none\; font-family: helvetica\, arial\, sans-serif\; font-size: 14px\; line-height: 18.76px\;">#ryanhansonhomes</a>
LOCATION:Keller Williams Realty Professionals\, 225 W. Cavour Ave\, Fergus Falls\, MN 56537
UID:e.314.32909
SEQUENCE:3
DTSTAMP:20260425T105911Z
URL:https://business.fergusfalls.com/events/details/client-appreciation-event-07-22-2016-32909
END:VEVENT

END:VCALENDAR
