BEGIN:VCALENDAR
VERSION:2.0
PRODID:-//ChamberMaster//Event Calendar 2.0//EN
METHOD:PUBLISH
X-PUBLISHED-TTL:P3D
REFRESH-INTERVAL:P3D
CALSCALE:GREGORIAN
BEGIN:VEVENT
DTSTART:20160721T220000Z
DTEND:20160722T000000Z
X-MICROSOFT-CDO-ALLDAYEVENT:FALSE
SUMMARY:Client Appreciation Event - Ryan Hanson Homes
DESCRIPTION:Ryan Hanson Homes is having a Client Appreciation Event! \n\n\n\nSweet rewards for being the best clients around! Please mark your calendars and be sure to stop by to make your own sundaes or cones and hang out with the Ryan Hanson Homes team for a bit. We would love the opportunity to say THANKS AGAIN for working with us!#rhhclientappreciation #ryanhansonhomes
X-ALT-DESC;FMTTYPE=text/html:Ryan Hanson Homes is having a Client Appreciation Event!&nbsp\;<br />\n<br />\n<span style="color: rgb(75\, 79\, 86)\; font-family: helvetica\, arial\, sans-serif\; font-size: 14px\; line-height: 18.76px\;">Sweet rewards for being the best clients around! Please mark your calendars and be sure to stop by to make your own sundaes or cones and hang out with the Ryan Hanson Homes team for a bit. We would love the opportunity to say THANKS AGAIN for working with us!</span><a class="_58cn" data-ft="{&quot\;tn&quot\;:&quot\;*N&quot\;\,&quot\;type&quot\;:104}" href="https://www.facebook.com/hashtag/rhhclientappreciation" style="color: rgb(54\, 88\, 153)\; cursor: pointer\; text-decoration: none\; font-family: helvetica\, arial\, sans-serif\; font-size: 14px\; line-height: 18.76px\;">#rhhclientappreciation</a><span style="color: rgb(75\, 79\, 86)\; font-family: helvetica\, arial\, sans-serif\; font-size: 14px\; line-height: 18.76px\;">&nbsp\;</span><a class="_58cn" data-ft="{&quot\;tn&quot\;:&quot\;*N&quot\;\,&quot\;type&quot\;:104}" href="https://www.facebook.com/hashtag/ryanhansonhomes" style="color: rgb(54\, 88\, 153)\; cursor: pointer\; text-decoration: none\; font-family: helvetica\, arial\, sans-serif\; font-size: 14px\; line-height: 18.76px\;">#ryanhansonhomes</a>
LOCATION:Keller Williams Realty Professionals\, 225 W. Cavour Ave\, Fergus Falls\, MN 56537
UID:e.314.32908
SEQUENCE:3
DTSTAMP:20260425T125246Z
URL:https://business.fergusfalls.com/events/details/client-appreciation-event-ryan-hanson-homes-07-21-2016-32908
END:VEVENT

END:VCALENDAR
