BEGIN:VCALENDAR
VERSION:2.0
PRODID:-//ChamberMaster//Event Calendar 2.0//EN
METHOD:PUBLISH
X-PUBLISHED-TTL:P3D
REFRESH-INTERVAL:P3D
CALSCALE:GREGORIAN
BEGIN:VEVENT
DTSTART:20171027T170000Z
DTEND:20171027T180000Z
X-MICROSOFT-CDO-ALLDAYEVENT:FALSE
SUMMARY:Climate Change\, the Challenge Facing Society - Brown Bag Lunch
DESCRIPTION:Trever Seidel\, an alumnus of M State in Fergus Falls\, was recently part of the international research experience program at the University of North Dakota. He has been studying climate change: one of the most important challenges currently facing society.\n\n\n\nTrevor's research area is renewable energy. The program project's goal involves mitigating climate change while keeping two principles in mind: keep energy affordable and reliable for everyone and reduce carbon dioxide emissions.\n\n\n\nTrevor will be coming to M State on October 27th to talk about the solar energy project in which he participated. The objective of this project is to fundamentally understand the interaction between ceramic scaffold and nanoparticles for enhancing direct solar absorption. These nanoparticles can absorb solar energy directly within the fluid or solid volume to circumvent the limitation of surface-controlled heat transfer mode\, for efficient solar energy steam generation. \n\n\n\nBring your bag lunch and learn more about this challenge we all face.
X-ALT-DESC;FMTTYPE=text/html:<span style="font-family:times new roman\,serif"><span style="font-size:12.0pt">Trever Seidel\, an alumnus of M State in Fergus Falls\, was recently part of the international research experience program at the University of North Dakota. He has been studying climate change: one of the most important challenges currently facing society.<br />\n<br />\nTrevor&rsquo\;s research area is renewable energy. The program project&#39\;s goal involves mitigating climate change while keeping two principles in mind: keep energy affordable and reliable for everyone and reduce carbon dioxide emissions.<br />\n<br />\nTrevor will be coming to M State on October 27<sup>th</sup> to talk about the solar energy project in which he participated. The objective of this project is to fundamentally understand the interaction between ceramic scaffold and nanoparticles for enhancing direct solar absorption. These nanoparticles can absorb solar energy directly within the fluid or solid volume to circumvent the limitation of surface-controlled heat transfer mode\, for efficient solar energy steam generation.&nbsp\;<br />\n<br />\nBring your bag lunch and learn more about this challenge we all face.</span></span><br />\n&nbsp\;
LOCATION:Fireplace Lounge M State\, Fergus Falls Campus 1414 College Way Fergus Falls\, MN 56537
UID:e.314.42673
SEQUENCE:3
DTSTAMP:20260424T105652Z
URL:https://business.fergusfalls.com/events/details/climate-change-the-challenge-facing-society-brown-bag-lunch-42673
END:VEVENT

END:VCALENDAR
