BEGIN:VCALENDAR
VERSION:2.0
PRODID:-//ChamberMaster//Event Calendar 2.0//EN
METHOD:PUBLISH
X-PUBLISHED-TTL:P3D
REFRESH-INTERVAL:P3D
CALSCALE:GREGORIAN
BEGIN:VEVENT
DTSTART:20161115T230500Z
DTEND:20161116T003000Z
X-MICROSOFT-CDO-ALLDAYEVENT:FALSE
SUMMARY:Club 505 at 715 Hot Heads
DESCRIPTION:You're Invited To Club 505 on Tuesday\, November 15th Hosted by 715 Hot Heads \n\nClub 505 is the newest version of Business After Hours.\n\nStop in\, join the fun and make a few new connections. \n\nEnjoy some light refreshments: tomato bisque soup & grilled cheese bite. Don't forget your business cards. \n\nTuesday\, Nov 15 at 5:05-6:30pm\n\n715 Hot Heads\, 133 S Mill St\, Suite 2\, River Inn Building (downstairs)\n\nReal. Social. Networking.
X-ALT-DESC;FMTTYPE=text/html:<span style="font-size: 16px\;"><span style="color: rgb(0\, 0\, 0)\;"><span style="font-weight: bold\; language: en-US\;"><span style="font-family: century gothic\;">You&#39\;re Invited To&nbsp\;</span></span></span><span style="color: rgb(0\, 128\, 0)\;"><span style="font-weight: bold\; language: en-US\;"><span style="font-family: century gothic\;">Club 505 </span></span></span><span style="color: rgb(0\, 0\, 0)\;"><span style="font-weight: bold\; language: en-US\;"><span style="font-family: century gothic\;">on</span></span></span><span style="color: rgb(255\, 0\, 0)\;"><span style="font-weight: bold\; language: en-US\;"><span style="font-family: century gothic\;"> </span></span></span><span style="color: rgb(0\, 0\, 255)\;"><span style="font-weight: bold\; language: en-US\;"><span style="font-family: century gothic\;">Tuesday\,&nbsp\;November 15th</span></span></span></span><span style="font-size: 16px\;"><span style="font-weight: bold\; language: en-US\;"><span style="font-family: century gothic\;"><span style="color: rgb(109\, 167\, 45)\;">&nbsp\;</span><span style="color: rgb(0\, 128\, 0)\;"><em>Hosted by</em></span><span style="color: rgb(109\, 167\, 45)\;"><em> <font color="#000000">715 Hot Heads </font></em></span></span></span></span><br />\n<span style="color: rgb(0\, 128\, 0)\;"><strong><span style="language: en-US\;"><span style="font-size: 11pt\;"><span style="font-family: century gothic\;">Club 505 </span></span></span></strong></span><span style="color: rgb(0\, 0\, 0)\;"><strong><span style="language: en-US\;"><span style="font-size: 11pt\;"><span style="font-family: century gothic\;">is the newest version of Business After Hours.</span></span></span></strong></span><br />\n<span style="font-family: comic sans ms\;"><span style="language: en-US\;">Stop in\, join the fun and make a few new connections.&nbsp\;<br />\nEnjoy some light refreshments: tomato bisque soup &amp\; grilled cheese bite. D</span></span><span style="language: en-US\;"><span style="font-family: century gothic\;"><span style="font-family: comic sans ms\;">on&#39\;t forget your business cards. </span></span></span><br />\n<strong><span style="language: en-US\;"><span style="font-size: 11pt\;"><span style="font-family: century gothic\;"><span style="color: rgb(0\, 0\, 255)\;">Tuesday\,&nbsp\;Nov&nbsp\;15 at 5:05-6:30pm</span></span></span></span></strong><br />\n<font face="Century Gothic"><strong>715 Hot Heads</strong>\, </font>133 S Mill St\, Suite 2\, River Inn Building (downstairs)<br />\n<span style="color: rgb(0\, 0\, 255)\;"><span style="font-weight: bold\; language: en-US\;"><span style="font-size: 11pt\;"><span style="font-family: century gothic\;">Real. Social. Networking.</span></span></span></span><br />\n&nbsp\;
LOCATION:715 Hot Heads 133 S Mill St\, Suite 2 River Inn Building (down stairs)
UID:e.314.35798
SEQUENCE:3
DTSTAMP:20260425T041219Z
URL:https://business.fergusfalls.com/events/details/club-505-at-715-hot-heads-35798
END:VEVENT

END:VCALENDAR
