BEGIN:VCALENDAR
VERSION:2.0
PRODID:-//ChamberMaster//Event Calendar 2.0//EN
METHOD:PUBLISH
X-PUBLISHED-TTL:P3D
REFRESH-INTERVAL:P3D
CALSCALE:GREGORIAN
BEGIN:VEVENT
DTSTART:20160609T220500Z
DTEND:20160609T233000Z
X-MICROSOFT-CDO-ALLDAYEVENT:FALSE
SUMMARY:Club 505 (Business After Hours) - Annabelle H. Lee Agency
DESCRIPTION:You're Invited To Kick-off Summer on Thursday\, June 9  Annabelle H. Lee Agency\, American Family.\n\nClub 505 is the newest version of Business After Hours.\n\nStop in\, join the fun and make a few new connections.\n\nCome to Annabelle H. Lee Agency\, American Family \n\nThursday\, June 9 at 5:05-6:30pm\n\nAnnabelle H. Lee Agency\, American Family 119 N. Friberg Ave. Suite A \n\nReal. Social. Networking.
X-ALT-DESC;FMTTYPE=text/html:<span style="font-size: 16px\;"><span style="color: rgb(0\, 0\, 0)\;"><span style="font-weight: bold\; language: en-US\;"><span style="font-family: century gothic\;">You&#39\;re Invited To Kick-off <strong>Summer</strong>&nbsp\;on</span></span></span><span style="color: rgb(255\, 0\, 0)\;"><span style="font-weight: bold\; language: en-US\;"><span style="font-family: century gothic\;"> </span></span></span><span style="color: rgb(0\, 0\, 255)\;"><span style="font-weight: bold\; language: en-US\;"><span style="font-family: century gothic\;">Thursday\,&nbsp\;June 9</span></span></span></span><span style="font-size: 16px\;"><span style="font-weight: bold\; language: en-US\;"><span style="font-family: century gothic\;"><span style="color: rgb(109\, 167\, 45)\;">&nbsp\; </span><span style="color: rgb(0\, 0\, 0)\;">Annabelle H. Lee Agency\, American Family.</span></span></span></span><br />\n<span style="color: rgb(0\, 0\, 255)\;"><strong><span style="language: en-US\;"><span style="font-size: 11pt\;"><span style="font-family: century gothic\;">Club 505</span></span></span></strong></span><span style="color: rgb(255\, 0\, 0)\;"><strong><span style="language: en-US\;"><span style="font-size: 11pt\;"><span style="font-family: century gothic\;"> </span></span></span></strong></span><span style="color: rgb(0\, 0\, 0)\;"><strong><span style="language: en-US\;"><span style="font-size: 11pt\;"><span style="font-family: century gothic\;">is the newest version of Business After Hours.</span></span></span></strong></span><br />\n<span style="language: en-US\;"><span style="font-family: century gothic\;">Stop in\, join the fun and make a few new connections.<br />\nCome to </span></span><font face="Century Gothic">Annabelle H. Lee Agency\, American Family </font><br />\n<strong><span style="language: en-US\;"><span style="font-size: 11pt\;"><span style="font-family: century gothic\;"><span style="color: rgb(0\, 0\, 255)\;">Thursday\, June 9 at 5:05-6:30pm</span></span></span></span></strong><br />\n<font face="Century Gothic">Annabelle H. Lee Agency\, American Family 119 N. Friberg Ave. Suite A&nbsp\;</font><br />\n<span style="color: rgb(0\, 0\, 255)\;"><span style="font-weight: bold\; language: en-US\;"><span style="font-size: 11pt\;"><span style="font-family: century gothic\;">Real. Social. Networking.</span></span></span></span><br />\n&nbsp\;
LOCATION:Annabelle H. Lee Agency\, American Family Insurance 119 N. Friberg Ave. Suite A Fergus Falls\, MN
UID:e.314.32628
SEQUENCE:3
DTSTAMP:20260425T131523Z
URL:https://business.fergusfalls.com/events/details/club-505-business-after-hours-annabelle-h-lee-agency-06-09-2016-32628
END:VEVENT

END:VCALENDAR
