BEGIN:VCALENDAR
VERSION:2.0
PRODID:-//ChamberMaster//Event Calendar 2.0//EN
METHOD:PUBLISH
X-PUBLISHED-TTL:P3D
REFRESH-INTERVAL:P3D
CALSCALE:GREGORIAN
BEGIN:VEVENT
DTSTART:20160414T220500Z
DTEND:20160414T234500Z
X-MICROSOFT-CDO-ALLDAYEVENT:FALSE
SUMMARY:Club 505 Business After Hours at PLGC
DESCRIPTION:Kick-off Spring on Thursday\, April 14 with socializing and complimentary appetizers at Pebble Lake Golf Club.\n\nClub 505 is the newest version of Business After Hours.\n\nStop in\, join the fun and make a few new connections. Come out to welcome the new Fergus Falls City Administrator\, Andrew Bremseth.\n\nThursday\, April 14th at 5:05-6:45pm\n\nPebble Lake Golf Club\, 1918 Pebble Lake Golf Drive\, Fergus Falls\n\nReal. Social. Networking.\n\nOpen to everyone 21+.\n\nCash bar.
X-ALT-DESC;FMTTYPE=text/html:<p><span style="font-size: 16px\;"><span style="font-weight: bold\; language: en-US\;"><span style="font-family: century gothic\;"><span style="color: purple\;">Kick-off Spring&nbsp\;on </span></span></span><span style="font-weight: bold\; language: en-US\;"><span style="font-family: century gothic\;"><span style="color: rgb(109\, 167\, 45)\;">Thursday\, April 14</span></span></span></span><span style="font-size: 16px\;"><span style="font-weight: bold\; language: en-US\;"><span style="font-family: century gothic\;"><span style="color: rgb(109\, 167\, 45)\;">&nbsp\;</span></span></span><span style="font-weight: bold\; language: en-US\;"><span style="font-family: century gothic\;"><span style="color: purple\;">with socializing and complimentary appetizers at Pebble Lake Golf Club.</span></span></span></span><br />\n<strong><span style="language: en-US\;"><span style="font-size: 11pt\;"><span style="font-family: century gothic\;"><span style="color: rgb(109\, 167\, 45)\;">Club 505 is the newest version of Business After Hours.</span></span></span></span></strong><br />\n<span style="language: en-US\;"><span style="font-family: century gothic\;">Stop in\, join the fun and make a few new connections. Come out to welcome&nbsp\;the new Fergus Falls City Administrator\, Andrew Bremseth.</span></span><br />\n<strong><span style="language: en-US\;"><span style="font-size: 11pt\;"><span style="font-family: century gothic\;"><span style="color: rgb(109\, 167\, 45)\;">Thursday\, April 14th&nbsp\;at 5:05-6:45pm</span></span></span></span></strong><br />\n<span style="language: en-US\;"><span style="font-family: century gothic\;">Pebble Lake Golf Club\, 1918 Pebble Lake Golf Drive\, Fergus Falls</span></span><br />\n<span style="font-weight: bold\; language: en-US\;"><span style="font-size: 11pt\;"><span style="font-family: century gothic\;"><span style="color: rgb(109\, 167\, 45)\;">Real. Social. Networking.</span></span></span></span><br />\n<span style="language: en-US\;"><span style="font-family: century gothic\;">Open to everyone 21+.<br />\nCash bar.&nbsp\;</span></span><br />\n&nbsp\;</p>\n
LOCATION:Pebble Lake Golf Club 1918 Pebble Lake Golf Drive Fergus Falls\, MN
UID:e.314.32043
SEQUENCE:3
DTSTAMP:20260425T163549Z
URL:https://business.fergusfalls.com/events/details/club-505-business-after-hours-at-plgc-04-14-2016-32043
END:VEVENT

END:VCALENDAR
