BEGIN:VCALENDAR
VERSION:2.0
PRODID:-//ChamberMaster//Event Calendar 2.0//EN
METHOD:PUBLISH
X-PUBLISHED-TTL:P3D
REFRESH-INTERVAL:P3D
CALSCALE:GREGORIAN
BEGIN:VEVENT
DTSTART:20160425T220500Z
DTEND:20160426T000500Z
X-MICROSOFT-CDO-ALLDAYEVENT:FALSE
SUMMARY:"Club 505" Business After Hours hosted by Docu Shred @ Bigwood
DESCRIPTION:Join us for a special Earth Day "Club 505 Business After Hours" with Free Drinks & Appetizers sponsored by Docu Shred at the Bigwood Event Center.\n\nMake new connections. Join the fun  Bring business cards\n\n5:05pm - 7:05pm\n\nat the Bigwood Event Center - Oxley Room\n\nFor more information contact Kelly at 218.893.1126\n\nDocu Shred is a locally owned company based in East Grand Forks\, MN and has been operating since 2001.\n\nOpen to everyone 21+. No pre-registration required
X-ALT-DESC;FMTTYPE=text/html:<span style="font-size:11px\;"><span style="font-family:verdana\;"><span style="color:#006400\;"><span style="font-weight:bold\;language:en-US\;">Join us for a special Earth Day &quot\;Club 505 Business After Hours&quot\; with Free Drinks &amp\; Appetizers sponsored by Docu Shred&nbsp\;</span><span style="font-weight:bold\;language:en-US\;">at the Bigwood Event Center.</span></span><br />\nMake new connections.&nbsp\;Join the fun&middot\; Bring business cards<br />\n5:05pm - 7:05pm<br />\nat the Bigwood Event Center - Oxley Room<br />\n<span font-size:="" style="line-height: 107%\; font-family: "><font color="#000000">For more information contact Kelly at 218.893.1126</font></span><br />\n<span font-size:="" mso-ansi-language:="" mso-bidi-language:="" mso-fareast-font-family:="" mso-fareast-language:="" mso-fareast-theme-font:="" style="line-height: 107%\; font-family: "><font color="#000000">Docu Shred is a locally owned company based in East Grand Forks\, MN and has been operating since 2001.</font></span><br />\n<span style="line-height: 17.0667px\;">Open to everyone 21+.&nbsp\;</span><span style="line-height: 17.0667px\;">No pre-registration required</span></span></span>
LOCATION:Bigwood Event Center 925 Western Ave. Fergus Falls\, MN
UID:e.314.31684
SEQUENCE:3
DTSTAMP:20260425T164725Z
URL:https://business.fergusfalls.com/events/details/club-505-business-after-hours-hosted-by-docu-shred-bigwood-04-25-2016-31684
END:VEVENT

END:VCALENDAR
