BEGIN:VCALENDAR
VERSION:2.0
PRODID:-//ChamberMaster//Event Calendar 2.0//EN
METHOD:PUBLISH
X-PUBLISHED-TTL:P3D
REFRESH-INTERVAL:P3D
CALSCALE:GREGORIAN
BEGIN:VEVENT
DTSTART:20170223T230500Z
DTEND:20170224T003000Z
X-MICROSOFT-CDO-ALLDAYEVENT:FALSE
SUMMARY:Club 505 (Business After Hours) hosted by Noon Kiwanis @ LifeSmiles Dental
DESCRIPTION:Enjoy "Club 505" Business After Hours hosted by Noon Kiwanis at LifeSmiles Dental. This is real\, social\, networking and a great event to get connected and celebrate another great day of living and working in Fergus Falls. \n\nFood:   K-bobs and for those looking for something a little sweet\, Special K bars\n\nBeverages:  Keg of beer\, Keg of Root Beer\, and Bottled Water\n\nDoor Prizes:     1) Kiwanis membership for 1 year   over $500 value!!  Provided by the Noon Kiwanis Klub\n\n                        2) A fancy Sonicare Toothbrush   Provided by LifeSmiles Dental\n\n \n\nDeKorations:  Kiwanis Balloons\, Kiwanis NapKins\, etc.\n\n \n\nThe Fergus Falls Noon Kiwanis Club meets every Tuesday at 12:00 noon at the Fergus Falls YMCA.   Our mission is Children   Priority One and we strive to make life better for kids in our community and surrounding areas through our service projects and financial support.  Some of our work includes:  N-P Park (our Adopted Park)\, Prairie Wetland Amphitheater\,  the Teen Section at the Fergus Falls Public Library\, the Annual Easter Egg Hunt at NP Park\, the Annual Teddy Bear Picnic at the public library\, the Annual Pancake Feed/Fund Raiser during Frostbite Festival\, the Annual Lake Alice Winter Karnival\, our Annual Service Sweep Grocery Grab Fundraiser\, and involvement with Stuff the Bus and other campaigns.  Our nickname is:  THE FUN CLUB!
X-ALT-DESC;FMTTYPE=text/html:<span style="font-size:12px\;"><span style="font-family:verdana\;">Enjoy &quot\;Club 505&quot\; Business After Hours hosted by Noon <strong>K</strong>iwanis at LifeSmiles Dental. This is real\, social\, networking and a great event to get connected and celebrate another great day of living and working in Fergus Falls.&nbsp\;<br />\nFood:&nbsp\;&nbsp\; <strong>K</strong>-bobs and for those looking for something a little sweet\, Special <strong>K</strong> bars<br />\nBeverages:&nbsp\; <strong>K</strong>eg of beer\, <strong>K</strong>eg of Root Beer\, and Bottled Water<br />\nDoor Prizes: &nbsp\;&nbsp\;&nbsp\; 1)&nbsp\;<strong>K</strong>iwanis membership for 1 year &ndash\; over $500 value!!&nbsp\; Provided by the Noon <strong>K</strong>iwanis <strong>K</strong>lub<br />\n&nbsp\;&nbsp\;&nbsp\;&nbsp\;&nbsp\;&nbsp\;&nbsp\;&nbsp\;&nbsp\;&nbsp\;&nbsp\;&nbsp\;&nbsp\;&nbsp\;&nbsp\;&nbsp\;&nbsp\;&nbsp\;&nbsp\;&nbsp\; &nbsp\;&nbsp\;&nbsp\;2) A fancy Sonicare Toothbrush &ndash\; Provided by LifeSmiles Dental<br />\n&nbsp\;<br />\nDe<strong>K</strong>orations:&nbsp\; <strong>K</strong>iwanis Balloons\, <strong>K</strong>iwanis Nap<strong>K</strong>ins\, etc.<br />\n&nbsp\;<br />\n<em>The Fergus Falls Noon Kiwanis Club meets every Tuesday at 12:00 noon at the Fergus Falls YMCA.&nbsp\;&nbsp\; Our mission is Children &ndash\; Priority One and we strive to make life better for kids in our community and surrounding areas through our service projects and financial support.&nbsp\; Some of our work includes: &nbsp\;N-P Park (our Adopted Park)\, Prairie Wetland Amphitheater\, &nbsp\;the Teen Section at the Fergus Falls Public Library\, the Annual Easter Egg Hunt at NP Park\, the Annual Teddy Bear Picnic at the public library\, the Annual Pancake Feed/Fund Raiser during Frostbite Festival\, the Annual Lake Alice Winter Karnival\, our Annual Service Sweep Grocery Grab Fundraiser\, and involvement with Stuff the Bus and other campaigns.&nbsp\; Our nickname is:&nbsp\; THE FUN CLUB!</em></span></span><br />\n&nbsp\;
LOCATION:LifeSmiles Dental 321 Western Ave. Fergus Falls\, MN
UID:e.314.38258
SEQUENCE:3
DTSTAMP:20260424T225923Z
URL:https://business.fergusfalls.com/events/details/club-505-business-after-hours-hosted-by-noon-kiwanis-lifesmiles-dental-38258
END:VEVENT

END:VCALENDAR
