BEGIN:VCALENDAR
VERSION:2.0
PRODID:-//ChamberMaster//Event Calendar 2.0//EN
METHOD:PUBLISH
X-PUBLISHED-TTL:P3D
REFRESH-INTERVAL:P3D
CALSCALE:GREGORIAN
BEGIN:VEVENT
DTSTART:20160716T150000Z
DTEND:20160716T220000Z
X-MICROSOFT-CDO-ALLDAYEVENT:FALSE
SUMMARY:Co-Ed Kickball Tournament
DESCRIPTION:The YMCA Co-Ed Kickball Tournament is for Ages 18 & Up. Teams may have up to 12 players on the roster.
X-ALT-DESC;FMTTYPE=text/html:The YMCA Co-Ed Kickball Tournament is for Ages 18 &amp\; Up. Teams may have up to 12 players on the roster.&nbsp\;
LOCATION:M-State Fields
UID:e.314.32776
SEQUENCE:3
DTSTAMP:20260425T111421Z
URL:https://business.fergusfalls.com/events/details/co-ed-kickball-tournament-07-16-2016-32776
END:VEVENT

END:VCALENDAR
