BEGIN:VCALENDAR
VERSION:2.0
PRODID:-//ChamberMaster//Event Calendar 2.0//EN
METHOD:PUBLISH
X-PUBLISHED-TTL:P3D
REFRESH-INTERVAL:P3D
CALSCALE:GREGORIAN
BEGIN:VEVENT
DTSTART:20200221T160000Z
DTEND:20200221T170000Z
X-MICROSOFT-CDO-ALLDAYEVENT:FALSE
SUMMARY:Coffee Klatch - Erin Lentz
DESCRIPTION:The Otter Tail County Historical Society's Coffee Klatch series continues on Friday\, February 21\, 10 a.m. with Erin Lentz\, A Refuge Specialist with the U.S. Fish & Wildlife Service. Lentz will share information on the Small Wetland Acquisition Program that the U.S. Fish & Wildlife Service has utilized to acquire wetlands and surrounding grasslands to create a network of Waterfowl Production Areas (WPAs). The first Wetland Acquisition Office in the Nation opened in Fergus Falls in the mid-1950s and the Nation's first Wetland Management District was in Fergus Falls. In the Prairie Pothole Region where the program has had its greatest impact\, WPAs protect habitat in one of the country's most important and threatened waterfowl nesting areas. Prairie Pothole wetlands have been dubbed "North America's Duck Factory." The OTCHS Coffee Klatch is free and open to the public. For more information contact the historical society at 218-736-6038.
X-ALT-DESC;FMTTYPE=text/html:The Otter Tail County Historical Society&rsquo\;s Coffee Klatch series continues on Friday\, February 21\, 10 a.m. with Erin Lentz\, A Refuge Specialist with the U.S. Fish &amp\; Wildlife Service. Lentz will share information on the Small Wetland Acquisition Program that the U.S. Fish &amp\; Wildlife Service has utilized to acquire wetlands and surrounding grasslands to create a network of Waterfowl Production Areas (WPAs). The first Wetland Acquisition Office in the Nation opened in Fergus Falls in the mid-1950s and the Nation&#39\;s first Wetland Management District was in Fergus Falls. In the Prairie Pothole Region where the program has had its greatest impact\, WPAs protect habitat in one of the country&rsquo\;s most important and threatened waterfowl nesting areas. Prairie Pothole wetlands have been dubbed &ldquo\;North America&rsquo\;s Duck Factory.&rdquo\; The OTCHS Coffee Klatch is free and open to the public. For more information contact the historical society at 218-736-6038.
LOCATION:Otter Tail County Historical Society\, 1110 W. Lincoln Ave.\, Fergus Falls
UID:e.314.56280
SEQUENCE:3
DTSTAMP:20260422T142731Z
URL:https://business.fergusfalls.com/events/details/coffee-klatch-erin-lentz-56280
END:VEVENT

END:VCALENDAR
