BEGIN:VCALENDAR
VERSION:2.0
PRODID:-//ChamberMaster//Event Calendar 2.0//EN
METHOD:PUBLISH
X-PUBLISHED-TTL:P3D
REFRESH-INTERVAL:P3D
CALSCALE:GREGORIAN
BEGIN:VEVENT
DTSTART:20200306T160000Z
DTEND:20200306T160000Z
X-MICROSOFT-CDO-ALLDAYEVENT:FALSE
SUMMARY:Coffee Klatch Series
DESCRIPTION:Steve Millard will provide a brief introduction as to how he got into birding\, an overview of the birds we have in Otter Tail County\, the unique habitat that we have in our area\, and some tips on backyard feeding for birds.
X-ALT-DESC;FMTTYPE=text/html:Steve Millard will provide a brief introduction as to how he got into birding\, an overview of the birds we have in Otter Tail County\, the unique habitat that we have in our area\, and some tips on backyard feeding for birds.
LOCATION:Otter Tail County Historical Society 1110 Lincoln Ave West
UID:e.314.56282
SEQUENCE:3
DTSTAMP:20260422T142752Z
URL:https://business.fergusfalls.com/events/details/coffee-klatch-series-03-06-2020-56282
END:VEVENT

END:VCALENDAR
