BEGIN:VCALENDAR
VERSION:2.0
PRODID:-//ChamberMaster//Event Calendar 2.0//EN
METHOD:PUBLISH
X-PUBLISHED-TTL:P3D
REFRESH-INTERVAL:P3D
CALSCALE:GREGORIAN
BEGIN:VEVENT
DTSTART:20200228T160000Z
DTEND:20200228T170000Z
X-MICROSOFT-CDO-ALLDAYEVENT:FALSE
SUMMARY:Coffee Klatch Series
DESCRIPTION:Fergus Falls Fish & Game Club Club members will share information on the Canada Goose Restoration Project that was initiated in the early 1960s. This presentation will provide some history behind the project\, some trials and setbacks along the way and the ongoing efforts that have ultimately lead to restoration projects success.
X-ALT-DESC;FMTTYPE=text/html:Fergus Falls Fish &amp\; Game Club Club members will share information on the Canada Goose Restoration Project that was initiated in the early 1960s. This presentation will provide some history behind the project\, some trials and setbacks along the way and the ongoing efforts that have ultimately lead to restoration projects success.
LOCATION:Otter Tail County Historical Society 1110 Lincoln Ave West Fergus Falls\, MN 56537
UID:e.314.56281
SEQUENCE:3
DTSTAMP:20260422T142400Z
URL:https://business.fergusfalls.com/events/details/coffee-klatch-series-56281
END:VEVENT

END:VCALENDAR
