BEGIN:VCALENDAR
VERSION:2.0
PRODID:-//ChamberMaster//Event Calendar 2.0//EN
METHOD:PUBLISH
X-PUBLISHED-TTL:P3D
REFRESH-INTERVAL:P3D
CALSCALE:GREGORIAN
BEGIN:VEVENT
DTSTART:20191111T160000Z
DTEND:20191111T170000Z
X-MICROSOFT-CDO-ALLDAYEVENT:FALSE
SUMMARY:Coffee With A Veteran
DESCRIPTION:The Minnesota Veterans Home in Fergus Falls invites you to join us for "Coffee With A Veteran!"  We will have coffee\, juice and doughnuts\, and the best part will be the opportunity to thank our Veterans for their service to our country.
X-ALT-DESC;FMTTYPE=text/html:The&nbsp\;Minnesota Veterans Home in Fergus Falls invites you to join us&nbsp\;for &quot\;Coffee With&nbsp\;A Veteran!&quot\;&nbsp\; We will have coffee\, juice and doughnuts\,&nbsp\;and the best part will be the opportunity to thank our Veterans for their service to our country.
LOCATION:Minnesota Veterans Home - Fergus Falls 1821 North Park Street Fergus Falls\, MN 56537
UID:e.314.55796
SEQUENCE:3
DTSTAMP:20260422T185755Z
URL:https://business.fergusfalls.com/events/details/coffee-with-a-veteran-55796
END:VEVENT

END:VCALENDAR
