BEGIN:VCALENDAR
VERSION:2.0
PRODID:-//ChamberMaster//Event Calendar 2.0//EN
METHOD:PUBLISH
X-PUBLISHED-TTL:P3D
REFRESH-INTERVAL:P3D
CALSCALE:GREGORIAN
BEGIN:VEVENT
DTSTART:20151008T132000Z
DTEND:20151008T160000Z
X-MICROSOFT-CDO-ALLDAYEVENT:FALSE
SUMMARY:College & Career Expo - Kennedy Secondary School
DESCRIPTION:College and Career Expo - Kennedy Secondary School\n\nStudents will visit with college reps and meet professional men and women to learn more about careers. The event highlights the skills and education students need to attain high paying\, in-demand jobs in West Central Minnesota. High school students from Fergus Falls and Otter Tail County will participate in small group presentations by professionals "on the job" as well as business and college displays set up trade show style.
X-ALT-DESC;FMTTYPE=text/html:College and Career Expo - Kennedy Secondary School<br />\nStudents will visit with college reps and meet professional men and women to learn more about careers. The event highlights the skills and education students need to attain high paying\, in-demand jobs in West Central Minnesota. High school students from Fergus Falls and Otter Tail County will participate in small group presentations by professionals &ldquo\;on the job&rdquo\; as well as business and college displays set up trade show style.
LOCATION:Kennedy Secondary School
UID:e.314.24026
SEQUENCE:3
DTSTAMP:20260426T030525Z
URL:https://business.fergusfalls.com/events/details/college-career-expo-kennedy-secondary-school-10-08-2015-24026
END:VEVENT

END:VCALENDAR
