BEGIN:VCALENDAR
VERSION:2.0
PRODID:-//ChamberMaster//Event Calendar 2.0//EN
METHOD:PUBLISH
X-PUBLISHED-TTL:P3D
REFRESH-INTERVAL:P3D
CALSCALE:GREGORIAN
BEGIN:VEVENT
DTSTART:20160616T120000Z
DTEND:20160617T020000Z
X-MICROSOFT-CDO-ALLDAYEVENT:FALSE
SUMMARY:Community Celebration - Forward Fergus Falls
DESCRIPTION:Enjoy a free breakfast and find out about what's been accomplished and future plans for Forward Fergus Falls.
X-ALT-DESC;FMTTYPE=text/html:Enjoy a free breakfast and find out about what&#39\;s been accomplished and future plans for Forward Fergus Falls.
LOCATION:Legacy Hall - M State
UID:e.314.32634
SEQUENCE:3
DTSTAMP:20260425T125421Z
URL:https://business.fergusfalls.com/events/details/community-celebration-forward-fergus-falls-06-16-2016-32634
END:VEVENT

END:VCALENDAR
