BEGIN:VCALENDAR
VERSION:2.0
PRODID:-//ChamberMaster//Event Calendar 2.0//EN
METHOD:PUBLISH
X-PUBLISHED-TTL:P3D
REFRESH-INTERVAL:P3D
CALSCALE:GREGORIAN
BEGIN:VEVENT
DTSTART;VALUE=DATE:20190201
DTEND;VALUE=DATE:20190202
TRANSP:TRANSPARENT
X-MICROSOFT-CDO-ALLDAYEVENT:TRUE
SUMMARY:Community Health Challenge
DESCRIPTION:The Lake Region Healthcare 2019 Community Health Challenge\, The Wheel of Wellness\, is back for another year of community inspiration! Work your way around the eight components of wellness for a chance to win a two-thousand-dollar travel voucher and other great prizes. Join us on a community journey to build new healthy habits. Walk\, run\, read\, write\, improve sleep and eat better... Whatever your pace\, join the challenge and help us reach the goal. Registration opens January 7th at www.lrhc.org/wow
X-ALT-DESC;FMTTYPE=text/html:The Lake Region Healthcare 2019 Community Health Challenge\, The Wheel of Wellness\, is back for another year of community inspiration! Work your way around the eight components of wellness for a chance to win a two-thousand-dollar travel voucher and other great prizes. Join us on a community journey to build new healthy habits. Walk\, run\, read\, write\, improve sleep and eat better... Whatever your pace\, join the challenge and help us reach the goal. Registration opens January 7th at www.lrhc.org/wow
LOCATION:www.lrhc.org/wow
UID:e.314.52136
SEQUENCE:3
DTSTAMP:20260423T093437Z
URL:https://business.fergusfalls.com/events/details/community-health-challenge-02-01-2019-52136
END:VEVENT

END:VCALENDAR
