BEGIN:VCALENDAR
VERSION:2.0
PRODID:-//ChamberMaster//Event Calendar 2.0//EN
METHOD:PUBLISH
X-PUBLISHED-TTL:P3D
REFRESH-INTERVAL:P3D
CALSCALE:GREGORIAN
BEGIN:VEVENT
DTSTART:20190314T213000Z
DTEND:20190315T010000Z
X-MICROSOFT-CDO-ALLDAYEVENT:FALSE
SUMMARY:Community Health Expo
DESCRIPTION:The culmination of our 2019 Community Health Challenge will be held at M State on March 14th. Dozens of health & wellness vendors on hand\, breakout sessions to learn more from subject matter experts on all things health & wellness\, healthy food from local eateries and of course\, the grand prize drawing for a $2\,000 travel voucher and other great prizes for health challenge participants. Free & open to the public\, not just health challenge participants. Great food\, hands-on learning and fun giveaways for all who attend.
X-ALT-DESC;FMTTYPE=text/html:The culmination of our 2019 Community Health Challenge will be held at M State on March 14th. Dozens of health &amp\; wellness vendors on hand\, breakout sessions to learn more from subject matter experts on all things health &amp\; wellness\, healthy food from local eateries and of course\, the grand prize drawing for a $2\,000 travel voucher and other great prizes for health challenge participants. Free &amp\; open to the public\, not just health challenge participants. Great food\, hands-on learning and fun giveaways for all who attend.
LOCATION:M State\, Fergus Falls Campus
UID:e.314.52111
SEQUENCE:3
DTSTAMP:20260423T080434Z
URL:https://business.fergusfalls.com/events/details/community-health-expo-03-14-2019-52111
END:VEVENT

END:VCALENDAR
