BEGIN:VCALENDAR
VERSION:2.0
PRODID:-//ChamberMaster//Event Calendar 2.0//EN
METHOD:PUBLISH
X-PUBLISHED-TTL:P3D
REFRESH-INTERVAL:P3D
CALSCALE:GREGORIAN
BEGIN:VEVENT
DTSTART:20160428T203000Z
DTEND:20160429T003000Z
X-MICROSOFT-CDO-ALLDAYEVENT:FALSE
SUMMARY:Community Health Expo
DESCRIPTION:A Night Devoted to Learning More About Living a Healthy Lifestyle - Brought to You by Lake Region Healthcare\n\nFree Health Screenings \n\n\n	Blood Pressure\n	Glaucoma/Macular Degeneration\n	Skin Cancer\n	Weight/Waist/Hip Ratio\n	Blood Glucose\n	Peripheral Arterial Disease\n	PSA\n	Cholesterol/HDL\n\n\nHealth & Wellness Exhibits\n\n\n	Pedal Fergus Falls\n	Community Garden\n	Ask the Doctor\n	Respiratory Care\n	Acute Rehabilitation\n	Nutrition\n	Advance Care Planning\n	Cancer Center\n\n\nFree Interactive Demonstrations\n\n\n	Yoga\n	Zumba\n	Parent/Child Workout\n\n\nGrand Prize Drawing for Around the World in 80 Days Health Challenge\n\n\n	$3500 Travel Voucher Grand Prize\n	Additional prizes include Weekend Getaways\, Apple Watch\, Bicycle and More!\n\n\nKeynote Speaker\n\nDr. Eva Berro\, Pulmonologist - The Importance of Sleep to Good Health
X-ALT-DESC;FMTTYPE=text/html:<p><em><strong>A Night Devoted to Learning More About Living a Healthy Lifestyle - Brought to You by Lake Region Healthcare</strong></em></p>\n\n<p><strong><u>Free Health Screenings</u></strong>&nbsp\;</p>\n\n<ul>\n	<li>Blood Pressure</li>\n	<li>Glaucoma/Macular Degeneration</li>\n	<li>Skin Cancer</li>\n	<li>Weight/Waist/Hip Ratio</li>\n	<li>Blood Glucose</li>\n	<li>Peripheral Arterial Disease</li>\n	<li>PSA</li>\n	<li>Cholesterol/HDL</li>\n</ul>\n\n<p><strong><u>Health &amp\; Wellness Exhibits</u></strong></p>\n\n<ul>\n	<li>Pedal Fergus Falls</li>\n	<li>Community Garden</li>\n	<li>Ask the Doctor</li>\n	<li>Respiratory Care</li>\n	<li>Acute Rehabilitation</li>\n	<li>Nutrition</li>\n	<li>Advance Care Planning</li>\n	<li>Cancer Center</li>\n</ul>\n\n<p><strong><u>Free Interactive Demonstrations</u></strong></p>\n\n<ul>\n	<li>Yoga</li>\n	<li>Zumba</li>\n	<li>Parent/Child Workout</li>\n</ul>\n\n<p><strong><u>Grand Prize Drawing for Around the World in 80 Days Health Challenge</u></strong></p>\n\n<ul>\n	<li>$3500 Travel Voucher Grand Prize</li>\n	<li>Additional prizes include Weekend Getaways\, Apple Watch\, Bicycle and More!</li>\n</ul>\n\n<p><strong><u>Keynote Speaker</u></strong></p>\n\n<p>Dr. Eva Berro\, Pulmonologist - The Importance of Sleep to Good Health</p>\n
LOCATION:Bigwood Event Center
UID:e.314.32384
SEQUENCE:3
DTSTAMP:20260425T163157Z
URL:https://business.fergusfalls.com/events/details/community-health-expo-04-28-2016-32384
END:VEVENT

END:VCALENDAR
