BEGIN:VCALENDAR
VERSION:2.0
PRODID:-//ChamberMaster//Event Calendar 2.0//EN
METHOD:PUBLISH
X-PUBLISHED-TTL:P3D
REFRESH-INTERVAL:P3D
CALSCALE:GREGORIAN
BEGIN:VEVENT
DTSTART:20180315T200000Z
DTEND:20180316T010000Z
X-MICROSOFT-CDO-ALLDAYEVENT:FALSE
SUMMARY:Community Health Expo 2017
DESCRIPTION:Free Family Event featuring health screenings for cholesterol\, blood pressure\, blood glucose\, peripheral arterial disease\, skin n cancer\, macular degeneration and glaucoma\, chair massages\, demonstrations and snacks\, too. More details to come.
X-ALT-DESC;FMTTYPE=text/html:<span class="_4n-j _3cht fsl" data-testid="event-permalink-details">Free Family Event featuring health screenings for cholesterol\, blood pressure\, blood glucose\, peripheral arterial disease\, skin n cancer\, macular degeneration and glaucoma\, chair massages\, demonstrations and snacks\, too. More details to come.</span>
LOCATION:M State - Fergus Falls
UID:e.314.43313
SEQUENCE:3
DTSTAMP:20260424T013102Z
URL:https://business.fergusfalls.com/events/details/community-health-expo-2017-43313
END:VEVENT

END:VCALENDAR
