BEGIN:VCALENDAR
VERSION:2.0
PRODID:-//ChamberMaster//Event Calendar 2.0//EN
METHOD:PUBLISH
X-PUBLISHED-TTL:P3D
REFRESH-INTERVAL:P3D
CALSCALE:GREGORIAN
BEGIN:VEVENT
DTSTART:20151210T220000Z
DTEND:20151211T010000Z
X-MICROSOFT-CDO-ALLDAYEVENT:FALSE
SUMMARY:Community Holiday Party - 5th Annual
DESCRIPTION:Come out of the cold - Thursday December 10th from 4-7pm for our 5th Annual Community Holiday Party at Willy T's (Thumper Pond).\n\n  \n\nEnjoy a complimentary Tom & Jerry\, Eggnog\, or steaming Hot Cider along with special holiday treats and a sampling of appetizers.  Donate a non-perishable food item and receive an additional drink ticket!\n\n  \n\nBring your spouse\, bring a friend\, bring the entire staff from the office\, or just come alone....just don't miss it!!\n\n  \n\nEveryone is welcome and encouraged to join us as we celebrate the Holiday Season!!
X-ALT-DESC;FMTTYPE=text/html:<span style="color: black\;"><span style="font-family: arial\,sans-serif\;"><span style="font-size: 11pt\;">Come out of the&nbsp\;cold - Thursday December 10th from 4-7pm for our 5th&nbsp\;Annual Community Holiday Party at Willy T&#39\;s (Thumper Pond).</span></span></span><br />\n&nbsp\;&nbsp\;<br />\n<span style="color: black\;"><span style="font-family: arial\,sans-serif\;"><span style="font-size: 11pt\;">Enjoy a&nbsp\;complimentary Tom &amp\; Jerry\, Eggnog\, or&nbsp\;steaming Hot Cider along with special holiday&nbsp\;treats and a sampling of appetizers.&nbsp\; Donate a non-perishable food item and receive an additional drink ticket!</span></span></span><br />\n&nbsp\;&nbsp\;<br />\n<span style="color: black\;"><span style="font-family: arial\,sans-serif\;"><span style="font-size: 11pt\;">Bring your spouse\, bring a friend\, bring the entire staff from the office\, or just come alone....just don&#39\;t miss it!!</span></span></span><br />\n&nbsp\;&nbsp\;<br />\n<span style="color: black\;"><span style="font-family: arial\,sans-serif\;"><span style="font-size: 11pt\;">Everyone is welcome and encouraged to join us as we celebrate the Holiday Season!!&nbsp\;&nbsp\;&nbsp\; </span></span></span><br />\n&nbsp\;
LOCATION:Willy T's at Thumper Pond\, Ottertail\, MN
UID:e.314.27947
SEQUENCE:3
DTSTAMP:20260425T233612Z
URL:https://business.fergusfalls.com/events/details/community-holiday-party-5th-annual-12-10-2015-27947
END:VEVENT

END:VCALENDAR
