BEGIN:VCALENDAR
VERSION:2.0
PRODID:-//ChamberMaster//Event Calendar 2.0//EN
METHOD:PUBLISH
X-PUBLISHED-TTL:P3D
REFRESH-INTERVAL:P3D
CALSCALE:GREGORIAN
BEGIN:VEVENT
DTSTART:20180505T110000Z
DTEND:20180505T230000Z
X-MICROSOFT-CDO-ALLDAYEVENT:FALSE
SUMMARY:Community Open House - YMCA
DESCRIPTION:Cheers to 50 years of the YMCA!\n\n\n\nAll Are Welcome to a FREE day at the YMCA in Fergus Falls!\n\nMay 5th 6am-6pm
X-ALT-DESC;FMTTYPE=text/html:Cheers to 50 years of the YMCA!<br />\n<br />\nAll Are Welcome to a FREE day at the YMCA in Fergus Falls!<br />\nMay 5th 6am-6pm<br />\n&nbsp\;
LOCATION:YMCA Fergus Falls 1164 Friberg Ave Fergus Falls
UID:e.314.47721
SEQUENCE:3
DTSTAMP:20260423T235118Z
URL:https://business.fergusfalls.com/events/details/community-open-house-ymca-47721
END:VEVENT

END:VCALENDAR
