BEGIN:VCALENDAR
VERSION:2.0
PRODID:-//ChamberMaster//Event Calendar 2.0//EN
METHOD:PUBLISH
X-PUBLISHED-TTL:P3D
REFRESH-INTERVAL:P3D
CALSCALE:GREGORIAN
BEGIN:VEVENT
DTSTART:20160212T230000Z
DTEND:20160213T010000Z
X-MICROSOFT-CDO-ALLDAYEVENT:FALSE
SUMMARY:Community Paramedic Forum
DESCRIPTION:
X-ALT-DESC;FMTTYPE=text/html:
LOCATION:Bigwood Event Center
UID:e.314.27804
SEQUENCE:3
DTSTAMP:20260425T200744Z
URL:https://business.fergusfalls.com/events/details/community-paramedic-forum-02-12-2016-27804
END:VEVENT

END:VCALENDAR
