BEGIN:VCALENDAR
VERSION:2.0
PRODID:-//ChamberMaster//Event Calendar 2.0//EN
METHOD:PUBLISH
X-PUBLISHED-TTL:P3D
REFRESH-INTERVAL:P3D
CALSCALE:GREGORIAN
BEGIN:VEVENT
DTSTART:20200120T200000Z
DTEND:20200120T223000Z
X-MICROSOFT-CDO-ALLDAYEVENT:FALSE
SUMMARY:Community Story Workshops | New York Mills Cultural Center
DESCRIPTION:What is your story? What is the story of your favorite place? Are there community stories you'd like to share or bring to life? Do you have project ideas around gathering community stories? \n\n\n\nThese workshops are a part of the Otter Tail County Story Mapping Project\, a 10 month pilot project by Rethos in partnership with the Otter Tail County Historical Society and Springboard for the Arts. The purpose of this project is to collect and map the stories of Otter Tail County by engaging community members through small projects led by local community members\, like you! During the Community Story Workshops\, you'll learn:\n\n\n\nWhat is a story map?
X-ALT-DESC;FMTTYPE=text/html:<span style="color:rgb(29\, 33\, 41)\; font-family:system-ui\,-apple-system\,blinkmacsystemfont\,.sfnstext-regular\,sans-serif\; font-size:14px">What is your story? What is the story of your favorite place? Are there community stories you&rsquo\;d like to share or bring to life? Do you have project ideas around gathering community stories? </span><br />\n<br />\n<span style="color:rgb(29\, 33\, 41)\; font-family:system-ui\,-apple-system\,blinkmacsystemfont\,.sfnstext-regular\,sans-serif\; font-size:14px">These workshops are a part of the Otter Tail County Story Mapping Project\, a 10 month pilot project by Rethos in partnership with the Otter Tail County Historical Society and Springboard for the Arts. The purpose of this project is to collect and map the stories of Otter Tail County by engaging community members through small projects led by local community members\, like you! During the Community Story Workshops\, you&rsquo\;ll learn:</span><br />\n<br />\n<span style="color:rgb(29\, 33\, 41)\; font-family:system-ui\,-apple-system\,blinkmacsystemfont\,.sfnstext-regular\,sans-serif\; font-size:14px">What is a story map?</span>
LOCATION:New York Mills Regional Cultural Center 24 Main Ave North\, PO Box 246\, New York Mills\, Minnesota 56567
UID:e.314.56100
SEQUENCE:3
DTSTAMP:20260422T172541Z
URL:https://business.fergusfalls.com/events/details/community-story-workshops-new-york-mills-cultural-center-56100
END:VEVENT

END:VCALENDAR
