BEGIN:VCALENDAR
VERSION:2.0
PRODID:-//ChamberMaster//Event Calendar 2.0//EN
METHOD:PUBLISH
X-PUBLISHED-TTL:P3D
REFRESH-INTERVAL:P3D
CALSCALE:GREGORIAN
BEGIN:VEVENT
DTSTART:20160126T000000Z
DTEND:20160126T013000Z
X-MICROSOFT-CDO-ALLDAYEVENT:FALSE
SUMMARY:Community Welcoming Event for Caravanserai
DESCRIPTION:Monday Night\, Jan. 25 from 6 to 7:30 p.m.\n\nCOMMUNITY WELCOME FOR CARAVANSERAI\n\nLake Region Arts Council offices\n\n133 North Mill Street\, Fergus Falls\n\nWelcome performers Ronnie Malley\, Zeshan Bagewadi\, and their talented band of fellow multi instrumentalists....
X-ALT-DESC;FMTTYPE=text/html:Monday Night\, Jan. 25 from 6 to 7:30 p.m.<br />\nCOMMUNITY WELCOME FOR CARAVANSERAI<br />\nLake Region Arts Council offices<br />\n133 North Mill Street\, Fergus Falls<br />\nWelcome performers Ronnie Malley\, Zeshan Bagewadi\, and their talented band of fellow multi&#8209\;instrumentalists.<span class="text_exposed_hide">...</span>
LOCATION:A Center For The Arts 124 West Lincoln Avenue
UID:e.314.30073
SEQUENCE:3
DTSTAMP:20260425T215349Z
URL:https://business.fergusfalls.com/events/details/community-welcoming-event-for-caravanserai-01-25-2016-30073
END:VEVENT

END:VCALENDAR
