BEGIN:VCALENDAR
VERSION:2.0
PRODID:-//ChamberMaster//Event Calendar 2.0//EN
METHOD:PUBLISH
X-PUBLISHED-TTL:P3D
REFRESH-INTERVAL:P3D
CALSCALE:GREGORIAN
BEGIN:VEVENT
DTSTART:20160115T010000Z
DTEND:20160115T030000Z
X-MICROSOFT-CDO-ALLDAYEVENT:FALSE
SUMMARY:Communnity Open Mic Night- Union Pizza Brewing Co. - Celebrating Neil Young
DESCRIPTION:As part of our monthly series celebrating classic\, beloved musicians\, January's pick is: Neil Young! On Thursday\, Jan. 14th\, come in and play YOUR favorite Neil Young song (s) LIVE - or relax and watch everyone else :) We have several instruments available for you to use\, but please feel free to bring your own\, as well! Guitar\, keyboard\, harmonica\, banjo\, and mandolin will be available. If you'd like to sign up for a song/set\, feel free to do so right here on this event page.\n\n\n\nThis is a FREE evening of amazing music\, and always will be. Craft beers\, from-scratch desserts\, brick-oven pizza\, French and Italian wines\, delicious salads...and legend Neil Young. This will be a night NOT to miss. Please share!
X-ALT-DESC;FMTTYPE=text/html:<span class="fsl">As part of our monthly series celebrating classic\, beloved musicians\, January&#39\;s pick is: Neil Young! On Thursday\, Jan. 14th\, come in and play YOUR favorite Neil Young song (s) LIVE - or relax and watch everyone else :) We have several instruments available for you to use\, but please feel free to bring your own\, as well! Guitar\, keyboard\, harmonica\, banjo\, and mandolin will be available. If you&#39\;d like to sign up for a song/set\, feel free to do so right here on this event page.<br />\n<br />\nThis is a FREE evening of amazing music\, and always will be. Craft beers\, from-scratch desserts\, brick-oven pizza\, French and Italian wines\, delicious salads...and legend Neil Young. This will be a night NOT to miss. Please share!</span>
LOCATION:Union Pizza & Brewing CO. 114 S Union Ave\, Fergus Falls
UID:e.314.28008
SEQUENCE:3
DTSTAMP:20260425T233316Z
URL:https://business.fergusfalls.com/events/details/communnity-open-mic-night-union-pizza-brewing-co-celebrating-neil-young-01-14-2016-28008
END:VEVENT

END:VCALENDAR
