BEGIN:VCALENDAR
VERSION:2.0
PRODID:-//ChamberMaster//Event Calendar 2.0//EN
METHOD:PUBLISH
X-PUBLISHED-TTL:P3D
REFRESH-INTERVAL:P3D
CALSCALE:GREGORIAN
BEGIN:VEVENT
DTSTART:20180726T233000Z
DTEND:20180727T033000Z
X-MICROSOFT-CDO-ALLDAYEVENT:FALSE
SUMMARY:Concerts & Movies in the Park
DESCRIPTION:Concerts & Movies in the Park Summer 2018\n\nBe sure to calendar all your favorites. Set aside Thursday nights this summer for one of the highlights of Summer in the Lakes area - FREE Concerts & Movies in the Park!\n\nConcerts are held in Roosevelt Park\, unless otherwise noted. Roosevelt Park is located on Randolph Avenue just across the street from Fergus Falls High School (Kennedy Secondary School) in Fergus Falls.\n\n\n\nConcerts begin at 6:30 pm\n\nMovies begin at 9:00 pm\n\nFood vendors are available as noted.\n\n\n\nPlease bring a lawn chair and/or blanket for your comfort while listening to the shows. Insect spray may also be appropriate and a light jacket in early and late season as the park does cool down once the sun sets. You are free to bring your own dinner\, drinks\, snacks\, etc to the park to enjoy during the shows.\n\n\n\nMovies in the Park sponsored by our friends from Park Region Telephone & Otter Tail Telcom.\n\nConcerts are provided at no charge by A Center for the Arts.\n\nWe hope you'll enjoy this season's lineup.\nJune 7th:\n\nNo Concert\n\nMovie: Smurfs\, The Lost village\n\n\n\nJune 14:\n\nConcert: The Color Crayons\n\nMovie: Grease\n\nFood Vendor - Zens Creative Catering\n\n\n\nJune 21\n\nConcert: Jim Whittleson\n\nMovie: Guardians of the Galaxy VOL 2\n\nVendor: TBD\n\n\n\nJune 28th\n\nConcert: Peter Pan @AC4TA\n\nMovie: Back to the Future\n\n\n\nJuly 5th\n\nConcert: The Demassi Bros.\n\nMovie: The Libarian Quest\n\nVendor: TBD\n\n\n\nJuly 12th \n\nConcert: Downtown at the Shop Move n' Groove @ AC4TA\n\nMovies: Despicable Me 3\n\nVendor: Don Pablos\n\n\n\nJuly 19th:\n\nConcerts: Bruce & Tiki D\n\nMovie: Brave\n\nFood Vendor: TBD\n\n\n\nJuly 26th: \n\nConcerts: Dreamers\n\nMovie: The Last Jedi\n\nFood Vendor: TBD\n\n\n\nAugust 2nd: \n\nConcerts: Music Man @ AC4TA\n\nMovie: Beauty & The Beast (2016)\n\nFood Vendor: TBD\n\n\n\nAugust 9th: \n\nConcerts: Jack & Kitty (sponsored by the FF Library)\n\nMovie: Honey I Shrunk the Kids\n\nFood Vendor: TBD\n\n\n\nAugust 16th: \n\nConcerts: Lakes Area All Stars\n\nMovie: Ocean's Eleven (1960)\n\n\n\nAugust 23rd: \n\nConcerts: Darrell Webb Band  @ AC4TA\n\nMovie: Justice League\n\nVendor: Don Pablos\n\n\n\nAugust 30th:\n\nConcert: Front & Center Singers / AChord\n\nMovie: Now You See Me 2\n\nVendor: Zens Creative Catering
X-ALT-DESC;FMTTYPE=text/html:<h1>Concerts &amp\; Movies in the Park&nbsp\;Summer 2018</h1>\n\n<p>Be sure to calendar all your favorites. Set aside Thursday nights this summer for one of the highlights of Summer in the Lakes area - FREE Concerts &amp\; Movies in the Park!</p>\n\n<p>Concerts are held in Roosevelt Park\, unless otherwise noted. Roosevelt Park is located on Randolph Avenue just across the street from Fergus Falls High School (Kennedy Secondary School) in Fergus Falls.<br />\n<br />\n<strong>Concerts begin at 6:30 pm<br />\nMovies begin at 9:00 pm<br />\nFood vendors are available as noted.<br />\n<br />\nPlease bring a lawn chair and/or blanket for your comfort while listening to the shows. Insect spray may also be appropriate and a light jacket in early and late season as the park does cool down once the sun sets. You are free to bring your own dinner\, drinks\, snacks\, etc to the park to enjoy during the shows.<br />\n<br />\n<em><strong><span style="color: rgb(255\, 0\, 0)\;">Movies in the Park </span>sponsored by our friends from Park Region Telephone &amp\; Otter Tail Telcom</strong></em>.</strong></p>\n\n<p><em><strong><span style="color: rgb(0\, 0\, 255)\;">Concerts</span> are provided at no charge by A Center for the Arts</strong></em>.</p>\n\n<p>We hope you&rsquo\;ll enjoy this season&rsquo\;s lineup.</p>\n<strong>June 7th:</strong><br />\nNo Concert<br />\nMovie:&nbsp\;Smurfs\, The Lost village<br />\n<br />\n<strong>June 14:</strong><br />\nConcert: The Color Crayons<br />\nMovie: Grease<br />\nFood Vendor - Zens Creative Catering<br />\n<br />\n<strong>June 21</strong><br />\nConcert: Jim Whittleson<br />\nMovie: Guardians of the Galaxy VOL 2<br />\nVendor: TBD<br />\n<br />\n<strong>June 28th</strong><br />\nConcert: Peter Pan @AC4TA<br />\nMovie: Back to the Future<br />\n<br />\n<strong>July 5th</strong><br />\nConcert: The Demassi Bros.<br />\nMovie: The Libarian Quest<br />\nVendor: TBD<br />\n<br />\n<strong>July 12th </strong><br />\nConcert: Downtown at the Shop Move n&#39\; Groove @ AC4TA<br />\nMovies: Despicable Me 3<br />\nVendor: Don Pablos<br />\n<br />\n<strong>July 19th:</strong><br />\nConcerts: Bruce &amp\; Tiki D<br />\nMovie: Brave<br />\nFood Vendor: TBD<br />\n<br />\n<strong>July 26th: </strong><br />\nConcerts: Dreamers<br />\nMovie: The Last Jedi<br />\nFood Vendor: TBD<br />\n<br />\n<strong>August 2nd: </strong><br />\nConcerts: Music Man @ AC4TA<br />\nMovie: Beauty &amp\; The Beast (2016)<br />\nFood Vendor: TBD<br />\n<br />\n<strong>August 9th: </strong><br />\nConcerts: Jack &amp\; Kitty (sponsored by the FF Library)<br />\nMovie: Honey I Shrunk the Kids<br />\nFood Vendor: TBD<br />\n<br />\n<strong>August 16th: </strong><br />\nConcerts: Lakes Area All Stars<br />\nMovie: Ocean&#39\;s Eleven (1960)<br />\n<br />\n<strong>August 23rd: </strong><br />\nConcerts: Darrell Webb Band&nbsp\; @&nbsp\;AC4TA<br />\nMovie: Justice League<br />\nVendor: Don Pablos<br />\n<br />\n<strong>August 30th:</strong><br />\nConcert: Front &amp\; Center Singers / AChord<br />\nMovie: Now You See Me 2<br />\nVendor: Zens Creative Catering<br />\n<br />\n&nbsp\;
LOCATION:Concerts are held in Roosevelt Park\, unless otherwise noted. Roosevelt Park is located on Randolph Avenue just across the street from Fergus Falls High School (Kennedy Secondary School) in Fergus Falls.
UID:e.314.47731
SEQUENCE:3
DTSTAMP:20260423T200432Z
URL:https://business.fergusfalls.com/events/details/concerts-movies-in-the-park-07-26-2018-47731
END:VEVENT

END:VCALENDAR
