BEGIN:VCALENDAR
VERSION:2.0
PRODID:-//ChamberMaster//Event Calendar 2.0//EN
METHOD:PUBLISH
X-PUBLISHED-TTL:P3D
REFRESH-INTERVAL:P3D
CALSCALE:GREGORIAN
BEGIN:VEVENT
DTSTART:20181222T030000Z
DTEND:20181222T060000Z
X-MICROSOFT-CDO-ALLDAYEVENT:FALSE
SUMMARY:Confusion at the VFW
DESCRIPTION:Confusion will be Rockin the VFW with great Rock n Roll\, Bluesy\, Funky Jams. Come on out and Boogie!!
X-ALT-DESC;FMTTYPE=text/html:<div class="_63ew" data-testid="event-permalink-details"><span>Confusion will be Rockin the VFW with great Rock n Roll\, Bluesy\, Funky Jams. Come on out and Boogie!!</span></div>\n
LOCATION:Fergus Falls VFW Post 612 and Auxiliary 420 E Washington Ave\, Fergus Falls\, Minnesota 56537
UID:e.314.52184
SEQUENCE:3
DTSTAMP:20260423T133436Z
URL:https://business.fergusfalls.com/events/details/confusion-at-the-vfw-52184
END:VEVENT

END:VCALENDAR
