BEGIN:VCALENDAR
VERSION:2.0
PRODID:-//ChamberMaster//Event Calendar 2.0//EN
METHOD:PUBLISH
X-PUBLISHED-TTL:P3D
REFRESH-INTERVAL:P3D
CALSCALE:GREGORIAN
BEGIN:VEVENT
DTSTART:20160101T030000Z
DTEND:20160101T055500Z
X-MICROSOFT-CDO-ALLDAYEVENT:FALSE
SUMMARY:Confusion Live New Years Eve @ Z103 Bar& Grill
DESCRIPTION:Confusion will be rocking the house from 9-close.\n\nSee website for Z103 Bar & Grill Hours and Further Details\n\n$5 cover charge
X-ALT-DESC;FMTTYPE=text/html:<span class="fsl">Confusion will be rocking the house from 9-close.<br />\nSee website for Z103 Bar &amp\; Grill Hours and Further Details<br />\n$5 cover charge</span>
LOCATION:
UID:e.314.27978
SEQUENCE:3
DTSTAMP:20260426T011856Z
URL:https://business.fergusfalls.com/events/details/confusion-live-new-years-eve-z103-bar-grill-12-31-2015-27978
END:VEVENT

END:VCALENDAR
