BEGIN:VCALENDAR
VERSION:2.0
PRODID:-//ChamberMaster//Event Calendar 2.0//EN
METHOD:PUBLISH
X-PUBLISHED-TTL:P3D
REFRESH-INTERVAL:P3D
CALSCALE:GREGORIAN
BEGIN:VEVENT
DTSTART:20171209T013000Z
DTEND:20171209T023000Z
X-MICROSOFT-CDO-ALLDAYEVENT:FALSE
SUMMARY:Cool Yule presented by A Center for the Arts
DESCRIPTION:A Holiday Show with Local Favorites \n\nWendy Erlandson and Linda Mellon and their on-stage family
X-ALT-DESC;FMTTYPE=text/html:A Holiday Show with Local Favorites&nbsp\;<br />\nWendy Erlandson and Linda Mellon and their on-stage family<br />\n&nbsp\;
LOCATION:A Center for the Arts 124 Lincoln Ave. Fergus Falls MN 56537
UID:e.314.43101
SEQUENCE:3
DTSTAMP:20260424T061513Z
URL:https://business.fergusfalls.com/events/details/cool-yule-presented-by-a-center-for-the-arts-43101
END:VEVENT

END:VCALENDAR
