BEGIN:VCALENDAR
VERSION:2.0
PRODID:-//ChamberMaster//Event Calendar 2.0//EN
METHOD:PUBLISH
X-PUBLISHED-TTL:P3D
REFRESH-INTERVAL:P3D
CALSCALE:GREGORIAN
BEGIN:VEVENT
DTSTART:20180425T140000Z
DTEND:20180425T200000Z
X-MICROSOFT-CDO-ALLDAYEVENT:FALSE
SUMMARY:Cooper's Administrative Professionals Day
DESCRIPTION:Cooper's Office Supply Administrative Professional's Day\n\nApril 25 * 9:00am-3:00pm\n\n	Chair Massages by Amanda Gehrke\n	Games & Prizes by AMP Insurance\n	Complimentary Eyebrow Bar by 715 Hot Heads\n\nDoor prizes & gift bag for all! \n\n\n\nFree Lunch served from 11am till gone \n\nGrilled brats\, baked beans\, chips\, and cake!
X-ALT-DESC;FMTTYPE=text/html:<strong><span style="font-size: 16px\;">Cooper&#39\;s Office Supply Administrative Professional&#39\;s Day<br />\nApril 25 * 9:00am-3:00pm</span></strong>\n<ul>\n	<li>Chair Massages by Amanda Gehrke</li>\n	<li>Games &amp\; Prizes by AMP Insurance</li>\n	<li>Complimentary Eyebrow Bar by 715 Hot Heads</li>\n</ul>\n<strong>Door prizes &amp\; gift bag for all! </strong><br />\n<br />\n<strong>Free Lunch served from 11am till gone </strong><br />\nGrilled brats\, baked beans\, chips\, and cake!
LOCATION:Cooper's Office Supply
UID:e.314.47718
SEQUENCE:3
DTSTAMP:20260423T235214Z
URL:https://business.fergusfalls.com/events/details/cooper-s-administrative-professionals-day-47718
END:VEVENT

END:VCALENDAR
