BEGIN:VCALENDAR
VERSION:2.0
PRODID:-//ChamberMaster//Event Calendar 2.0//EN
METHOD:PUBLISH
X-PUBLISHED-TTL:P3D
REFRESH-INTERVAL:P3D
CALSCALE:GREGORIAN
BEGIN:VEVENT
DTSTART:20151117T200000Z
DTEND:20151117T220000Z
X-MICROSOFT-CDO-ALLDAYEVENT:FALSE
SUMMARY:Cooper's Grand Re-Opening Ribbon Cutting & Open House
DESCRIPTION:Cooper's Technology Group: Grand Re-Opening\n\nRibbon Cutting Ceremony 2:00pm\n\nOpen House 2:00-4:00pm\n\n\n\nJoin Us for a celebration of their 2015 renovation -- register for prizes\, enjoy refreshments.
X-ALT-DESC;FMTTYPE=text/html:<strong>Cooper&#39\;s Technology Group: Grand Re-Opening<br />\nRibbon Cutting Ceremony 2:00pm<br />\nOpen House 2:00-4:00pm<br />\n<br />\nJoin Us for a celebration of their 2015 renovation -- register for prizes\, enjoy refreshments.</strong>
LOCATION:102 E. Lincoln Ave Fergus Falls
UID:e.314.26447
SEQUENCE:3
DTSTAMP:20260426T011848Z
URL:https://business.fergusfalls.com/events/details/cooper-s-grand-re-opening-ribbon-cutting-open-house-11-17-2015-26447
END:VEVENT

END:VCALENDAR
