BEGIN:VCALENDAR
VERSION:2.0
PRODID:-//ChamberMaster//Event Calendar 2.0//EN
METHOD:PUBLISH
X-PUBLISHED-TTL:P3D
REFRESH-INTERVAL:P3D
CALSCALE:GREGORIAN
BEGIN:VEVENT
DTSTART;VALUE=DATE:20170317
DTEND;VALUE=DATE:20170318
TRANSP:TRANSPARENT
X-MICROSOFT-CDO-ALLDAYEVENT:TRUE
SUMMARY:Corn Beef & Cabbage - till it's gone!
DESCRIPTION:American Legion Post 30\n\n\n\nYou're in LUCK! We are serving Corn Beef & Cabbage with potatoes this Friday in celebration of St. Patrick's day! We'll serve from 11am until it's gone...come join us!
X-ALT-DESC;FMTTYPE=text/html:American Legion Post 30<br />\n<br />\nYou&#39\;re in LUCK! We are serving Corn Beef &amp\; Cabbage with potatoes this Friday in celebration of St. Patrick&#39\;s day! We&#39\;ll serve from 11am until it&#39\;s gone...come join us!
LOCATION:2010 South Pebble Lake Raod Fergus Falls\, Minnesota
UID:e.314.38917
SEQUENCE:3
DTSTAMP:20260424T205701Z
URL:https://business.fergusfalls.com/events/details/corn-beef-cabbage-till-it-s-gone-38917
END:VEVENT

END:VCALENDAR
