BEGIN:VCALENDAR
VERSION:2.0
PRODID:-//ChamberMaster//Event Calendar 2.0//EN
METHOD:PUBLISH
X-PUBLISHED-TTL:P3D
REFRESH-INTERVAL:P3D
CALSCALE:GREGORIAN
BEGIN:VEVENT
DTSTART:20171008T150000Z
DTEND:20171008T220000Z
X-MICROSOFT-CDO-ALLDAYEVENT:FALSE
SUMMARY:Corn Maze @ Mother\,Goose & Bean's
DESCRIPTION:We are excited to invite you to come and experience our CORN MAZE this year at Mother\, Goose & Bean's!! \n\n\n\nThe maze will be open EVERY Saturday and Sunday through October 28th\, 2017\; 10am-5pm.\n\n\n\n*WE WILL BE OPEN MONDAY\, LABOR DAY\, TOO*\n\n\n\nFreshly popped kettle corn is also available for purchase every weekend at Mother\, Goose & Bean's  (You don't want to pass that up!)\n\n\n\nWith a new design and 3 additional acres\, our maze is sure to impress! We also have Smartphone capabilities throughout our maze. There are over 50 trivia categories from which to choose so that ALL AGES can enjoy our corn maze as you find all 10 checkpoints.\n\nWe are proud to offer our guests a fun\, clean and memorable experience when you visit us at Mother\, Goose & Bean's!\n\nTickets are $5 a piece. If you are 5 years old or younger\, you get in for FREE!!\n\nHope to see you soon!!
X-ALT-DESC;FMTTYPE=text/html:<span class="_4n-j _3cht fsl" data-testid="event-permalink-details">We are excited to invite you to come and experience our CORN MAZE this year at Mother\, Goose &amp\; Bean&#39\;s!!&nbsp\;<br />\n<br />\nThe maze will be open EVERY Saturday and Sunday through October 28th\, 2017\; 10am-5pm.<br />\n<br />\n*WE WILL BE OPEN MONDAY\, LABOR DAY\, TOO*<br />\n<br />\nFreshly popped kettle corn is also available for purchase every weekend at Mother\, Goose &amp\; Bean&#39\;s&nbsp\; (You don&#39\;t want to pass that up!)<br />\n<br />\nWith a new design and 3 additional acres\, our maze is sure to impress! We also have Smartphone capabilities throughout our maze. There are over 50 trivia categories from which to choose so that ALL AGES can enjoy our corn maze as you find all 10 checkpoints.<br />\nWe are proud to offer our guests a fun\, clean and memorable experience when you visit us at Mother\, Goose &amp\; Bean&#39\;s!<br />\nTickets are $5 a piece. If you are 5 years old or younger\, you get in for FREE!!<br />\nHope to see you soon!!</span>
LOCATION:Mother\, Goose & Bean's Erhard MN
UID:e.314.41100
SEQUENCE:3
DTSTAMP:20260424T092539Z
URL:https://business.fergusfalls.com/events/details/corn-maze-mother-goose-bean-s-10-08-2017-41100
END:VEVENT

END:VCALENDAR
