BEGIN:VCALENDAR
VERSION:2.0
PRODID:-//ChamberMaster//Event Calendar 2.0//EN
METHOD:PUBLISH
X-PUBLISHED-TTL:P3D
REFRESH-INTERVAL:P3D
CALSCALE:GREGORIAN
BEGIN:VEVENT
DTSTART:20191020T150000Z
DTEND:20191020T220000Z
X-MICROSOFT-CDO-ALLDAYEVENT:FALSE
SUMMARY:Corn Maze\, Pumpkins & Fall Festivals - Mother\, Goose & Bean's
DESCRIPTION:PUMPKINS PUMPKINS PUMPKINS!!!!\n\nPallets are stocked -- Amazing selection.\n\nOPEN Saturdays & Sundays 10am-5pm (price range: $1-$8) until October 26\n\nINTERACTIVE CORN MAZE!!!\n\n$6 per person\; 10am-5pm.\n\n\n\nMGB Fall Festival Celebrations: October 12\n\n\n\nEnd of Season Wagon Sale: October 20\n\n\n\n3rd Annual Hillbilly Haunt: October 26 \n\n\nFreshly striped parking lot  (with TONS of overflow space)\n\nSee you soon!
X-ALT-DESC;FMTTYPE=text/html:<div class="text_exposed_root text_exposed" id="id_5bc4a566216478744544209">\n<p>PUMPKINS PUMPKINS PUMPKINS!!!!<br />\nPallets are stocked -- Amazing selection.<br />\nOPEN Saturdays &amp\; Sundays 10am-5pm (price range: $1-$8) until October 26</p>\n\n<p>INTERACTIVE CORN MAZE!!!<br />\n<span class="text_exposed_show">$6 per person\; 10am-5pm.<br />\n<br />\nMGB Fall Festival Celebrations: October 12<br />\n<br />\nEnd of Season Wagon Sale: October 20<br />\n<br />\n3rd Annual Hillbilly Haunt: October 26&nbsp\;</span></p>\n\n<div class="text_exposed_show">\n<p>Freshly striped parking lot &nbsp\;(with TONS of overflow space)</p>\n\n<p>See you soon!</p>\n</div>\n</div>\n
LOCATION:16607 340th St Erhard\, Minnesota
UID:e.314.54796
SEQUENCE:3
DTSTAMP:20260422T222217Z
URL:https://business.fergusfalls.com/events/details/corn-maze-mother-goose-bean-s-10-20-2019-54796
END:VEVENT

END:VCALENDAR
