BEGIN:VCALENDAR
VERSION:2.0
PRODID:-//ChamberMaster//Event Calendar 2.0//EN
METHOD:PUBLISH
X-PUBLISHED-TTL:P3D
REFRESH-INTERVAL:P3D
CALSCALE:GREGORIAN
BEGIN:VEVENT
DTSTART:20151003T190000Z
DTEND:20151004T033000Z
X-MICROSOFT-CDO-ALLDAYEVENT:FALSE
SUMMARY:Cornhole & Rock N Roll Fundraiser
DESCRIPTION:Cornhole & Rock N Roll Fundraiser - VFW\n\n\n\n2015 Fergus Falls Hockey Association fundraiser event - all day bean bag tournament. \n\nFive Beanbag brackets\n\n(No kids after 5pm)\n\nDivisions:\n\n9am: 12 and under\n\n11am: Ages 13-20\n\n1pm: Adult/Child\n\n3pm: 21 and Over Co Ed\n\n6pm: 21 and Over \n\n \n\n	$500 Cash prize for 1st Place\n	$250 for 2nd Place\n	$40 Per  Team Entry Fee \n\n\n\nLocal Band - Giving Back Jack\n\nstarts at 9pm $10 Cover
X-ALT-DESC;FMTTYPE=text/html:<span style="font-size: 20px\;"><span style="color: rgb(0\, 0\, 255)\;"><span class="title"><strong>Cornhole &amp\; Rock N Roll Fundraiser - VFW</strong></span></span></span><br />\n<br />\n<span class="event-description">2015 Fergus Falls Hockey Association fundraiser event - all day bean bag tournament. </span><br />\n<span class="title" style="color: rgb(41\, 82\, 163)\;"><strong><span style="font-size: 16px\;">Five Beanbag brackets</span></strong></span><span style="color: rgb(255\, 0\, 0)\;"><span class="title"><strong><br />\n<u><em>(No kids after 5pm)</em></u></strong></span></span><br />\n<span style="color: rgb(0\, 0\, 255)\;"><span class="title"><strong><u>Divisions:<br />\n9am: 12 and under<br />\n11am: Ages 13-20<br />\n1pm: Adult/Child<br />\n3pm: 21 and Over Co Ed<br />\n6pm: 21 and Over </u></strong></span></span><br />\n&nbsp\;\n<ul>\n	<li><span class="title" style="color: rgb(41\, 82\, 163)\;">$500 Cash prize for 1st Place</span></li>\n	<li><span class="title" style="color: rgb(41\, 82\, 163)\;">$250 for 2nd Place</span></li>\n	<li><span class="title" style="color: rgb(41\, 82\, 163)\;">$40 Per &nbsp\;Team Entry Fee </span></li>\n</ul>\n<br />\n<span class="title" style="color: rgb(41\, 82\, 163)\;"><strong>Local Band - Giving Back Jack<br />\nstarts at 9pm $10 Cover </strong></span>
LOCATION:Fergus Falls VFW 420 E Washington Ave\, Fergus Falls
UID:e.314.24221
SEQUENCE:3
DTSTAMP:20260426T025826Z
URL:https://business.fergusfalls.com/events/details/cornhole-rock-n-roll-fundraiser-10-03-2015-24221
END:VEVENT

END:VCALENDAR
