BEGIN:VCALENDAR
VERSION:2.0
PRODID:-//ChamberMaster//Event Calendar 2.0//EN
METHOD:PUBLISH
X-PUBLISHED-TTL:P3D
REFRESH-INTERVAL:P3D
CALSCALE:GREGORIAN
BEGIN:VEVENT
DTSTART:20160205T233000Z
DTEND:20160206T023000Z
X-MICROSOFT-CDO-ALLDAYEVENT:FALSE
SUMMARY:Corporate Cup presented by Lake Region Healthcare
DESCRIPTION:The Corporate Cup is a one evening event put together by Lake Region Healthcare staff. \n	The event aims to promote wellness and teamwork through mind and body challenges suitable for all abilities.\n	The event will be capped at 20 teams of 6-15 members. Each member must participate in at least one event.\n	Team members can be employees and their spouses and must have both males and females due to specific game rules.\n	Team uniforms are strongly suggested.\n	Unique team names also strongly suggested.\n	Teams that supply volunteers (does not need to be employees) earn bonus points.\n	There are 8 challenges that take place both indoors and outdoors and at varying locations around Fergus Falls.\n	Corporate Cup winners will get to house the traveling trophy until they get de-throned.\n	Click Here for Complete Corporate Cup Packet & Registration
X-ALT-DESC;FMTTYPE=text/html:<ul>\n	<li><span style="font-size:12.0pt\;">The Corporate Cup is a one evening event put together by Lake Region Healthcare staff. </span></li>\n	<li><span style="font-size:12.0pt\;">The event aims to promote wellness and teamwork through mind and body challenges suitable for all abilities.</span></li>\n	<li><span style="font-size:12.0pt\;">The event will be capped at 20 teams of 6-15 members. Each member must participate in at least one event.</span></li>\n	<li><span style="font-size:12.0pt\;">Team members can be employees and their spouses and must have both males and females due to specific game rules.</span></li>\n	<li><span style="font-size:12.0pt\;">Team uniforms are strongly suggested.</span></li>\n	<li><span style="font-size:12.0pt\;">Unique team names also strongly suggested.</span></li>\n	<li><span style="font-size:12.0pt\;">Teams that supply volunteers (does not need to be employees) earn bonus points.</span></li>\n	<li><span style="font-size:12.0pt\;">There are 8 challenges that take place both indoors and outdoors and at varying locations around Fergus Falls.</span></li>\n	<li><span style="font-size:12.0pt\;">Corporate Cup winners will get to house the traveling trophy until they get de-throned.</span></li>\n	<li><span style="font-size:12.0pt\;"><a href="http://cloud.chambermaster.com/userfiles/UserFiles/chambers/314/File/TOTALPacketfor2016LRHCorporateCup.docx">Click Here for Complete Corporate Cup Packet &amp\; Registration</a> </span></li>\n</ul>\n
LOCATION:Fergus Falls -- Various locations for each event including: Kennedy Secondary School Gyms & Pool\, Lake Alice\, Cleveland School & Field\, Phatty Nattie's\,
UID:e.314.27365
SEQUENCE:3
DTSTAMP:20260425T201628Z
URL:https://business.fergusfalls.com/events/details/corporate-cup-presented-by-lake-region-healthcare-02-05-2016-27365
END:VEVENT

END:VCALENDAR
