BEGIN:VCALENDAR
VERSION:2.0
PRODID:-//ChamberMaster//Event Calendar 2.0//EN
METHOD:PUBLISH
X-PUBLISHED-TTL:P3D
REFRESH-INTERVAL:P3D
CALSCALE:GREGORIAN
BEGIN:VEVENT
DTSTART:20160516T230000Z
DTEND:20160517T030000Z
X-MICROSOFT-CDO-ALLDAYEVENT:FALSE
SUMMARY:CPR and AED Training
DESCRIPTION:American Heart Association CPR and AED Training
X-ALT-DESC;FMTTYPE=text/html:American Heart Association CPR and AED Training 
LOCATION:Ringdahl Ambulance Service 214 East Junius Ave Fergus Falls\, MN
UID:e.314.12712
SEQUENCE:3
DTSTAMP:20260425T145031Z
URL:https://business.fergusfalls.com/events/details/cpr-and-aed-training-05-16-2016-12712
END:VEVENT

END:VCALENDAR
