BEGIN:VCALENDAR
VERSION:2.0
PRODID:-//ChamberMaster//Event Calendar 2.0//EN
METHOD:PUBLISH
X-PUBLISHED-TTL:P3D
REFRESH-INTERVAL:P3D
CALSCALE:GREGORIAN
BEGIN:VEVENT
DTSTART:20180820T230000Z
DTEND:20180821T030000Z
X-MICROSOFT-CDO-ALLDAYEVENT:FALSE
SUMMARY:CPR and AED Training
DESCRIPTION:American Heart Association CPR and AED Training
X-ALT-DESC;FMTTYPE=text/html:American Heart Association CPR and AED Training 
LOCATION:Ringdahl Ambulance Service 214 East Junius Ave Fergus Falls\, MN
UID:e.314.12739
SEQUENCE:3
DTSTAMP:20260423T180953Z
URL:https://business.fergusfalls.com/events/details/cpr-and-aed-training-08-20-2018-12739
END:VEVENT

END:VCALENDAR
