BEGIN:VCALENDAR
VERSION:2.0
PRODID:-//ChamberMaster//Event Calendar 2.0//EN
METHOD:PUBLISH
X-PUBLISHED-TTL:P3D
REFRESH-INTERVAL:P3D
CALSCALE:GREGORIAN
BEGIN:VEVENT
DTSTART:20200518T230000Z
DTEND:20200519T030000Z
X-MICROSOFT-CDO-ALLDAYEVENT:FALSE
SUMMARY:CPR and AED Training ONLINE
DESCRIPTION:American Heart Association CPR and AED Training
X-ALT-DESC;FMTTYPE=text/html:American Heart Association CPR and AED Training
LOCATION:Ringdahl Ambulance Service 214 East Junius Ave Fergus Falls\, MN
UID:e.314.12760
SEQUENCE:3
DTSTAMP:20260422T112224Z
URL:https://business.fergusfalls.com/events/details/cpr-and-aed-training-online-12760
END:VEVENT

END:VCALENDAR
