BEGIN:VCALENDAR
VERSION:2.0
PRODID:-//ChamberMaster//Event Calendar 2.0//EN
METHOD:PUBLISH
X-PUBLISHED-TTL:P3D
REFRESH-INTERVAL:P3D
CALSCALE:GREGORIAN
BEGIN:VEVENT
DTSTART:20191009T140000Z
DTEND:20191009T160000Z
X-MICROSOFT-CDO-ALLDAYEVENT:FALSE
SUMMARY:Creating a Marketing Plan
DESCRIPTION:Creating a Marketing Plan that Reaches YOUR Target 10/9 - Join our consultant Deb McGregor as she gets you started on the process of defining your target audience and choosing measurable\, effective strategies to reach your audience. 9 11 am $10 registration fee hosted at West Central Initiative.\n\nRegister here: https://events.r20.constantcontact.com/register/eventReg?oeidk=a07egiolmsdd87cc4f5&oseq=&c=&ch=
X-ALT-DESC;FMTTYPE=text/html:<div class="_63ew" data-testid="event-permalink-details"><span>Creating a Marketing Plan that Reaches YOUR Target 10/9 - Join our consultant Deb McGregor as she gets you started on the process of defining your target audience and choosing measurable\, effective strategies to reach your audience. 9&mdash\;11 am&mdash\;$10 registration fee&mdash\;hosted at West Central Initiative.<br />\nRegister here: <a data-lynx-mode="hover" data-lynx-uri="https://l.facebook.com/l.php?u=https%3A%2F%2Fevents.r20.constantcontact.com%2Fregister%2FeventReg%3Foeidk%3Da07egiolmsdd87cc4f5%26oseq%3D%26c%3D%26ch%3D%26fbclid%3DIwAR0f7_9AGy1_QfN1SxSjLYimdpzBYsf7W35ZekfFJmy3RnQo9FkKls7QTvE&amp\;h=AT1A5kqyGuPNTi6IKrCWKV_Yc3O2tng0ROZhgg7EiDEgU05bhKowRNhmSg7xdzgzixMxKyVAFTvfsZ-2-WRPGsQiZ33X0rMFpcEGUOkYckuN00GGP9nucbzLrV1h72BvpA" href="https://events.r20.constantcontact.com/register/eventReg?oeidk=a07egiolmsdd87cc4f5&amp\;oseq=&amp\;c=&amp\;ch=&amp\;fbclid=IwAR0f7_9AGy1_QfN1SxSjLYimdpzBYsf7W35ZekfFJmy3RnQo9FkKls7QTvE" rel="nofollow" target="_blank"><font color="#0066cc">https://events.r20.constantcontact.com/register/eventReg?oeidk=a07egiolmsdd87cc4f5&amp\;oseq=&amp\;c=&amp\;ch=</font></a></span></div>\n
LOCATION:
UID:e.314.54582
SEQUENCE:3
DTSTAMP:20260422T202609Z
URL:https://business.fergusfalls.com/events/details/creating-a-marketing-plan-54582
END:VEVENT

END:VCALENDAR
