BEGIN:VCALENDAR
VERSION:2.0
PRODID:-//ChamberMaster//Event Calendar 2.0//EN
METHOD:PUBLISH
X-PUBLISHED-TTL:P3D
REFRESH-INTERVAL:P3D
CALSCALE:GREGORIAN
BEGIN:VEVENT
DTSTART:20180927T160000Z
DTEND:20180927T220000Z
X-MICROSOFT-CDO-ALLDAYEVENT:FALSE
SUMMARY:Cremation\, Taxes & Death - Oh My!
DESCRIPTION:Cremation\, Taxes & Death - Oh My!\n\nJoin the staff of Glende-Nilson Funeral Home and accountant Dic Pickett of Pickett & Demuth\, Ltd. for an engaging seminar covering everything you wanted to know about cremation\, death\, and taxes.\n\n\n\nWith President Trump signing the final version of the Tax Cuts and Jobs Act of 2017 into law\, you likely have questions as to how this massive overhaul of our tax system affects you and your family. Will my personal income taxes be lower? Can I really file my tax return on a postcard? Will the charitable contributions I make still be deductible? Is a reverse mortgage a good option for me?\n\n\n\nOther topics include recent changes to state medical assistance guidelines\, how they may impact you and your family\, and why it is more important than ever to have a plan in place to cover your final expenses. With more families looking for flexibility related to where and when a service or celebration of life is held\, we will discuss why cremation may be a choice for you to consider.\n\n\n\nA light lunch will be served\, and door prizes will be drawn. As space is limited\, please RSVP by calling the funeral home at 736-7064\, e-mailing info@glendenilson.com
X-ALT-DESC;FMTTYPE=text/html:<strong>Cremation\, Taxes &amp\; Death - Oh My!</strong><br />\n<span>Join the staff of Glende-Nilson Funeral Home and accountant Dic Pickett of Pickett &amp\; Demuth\, Ltd. for an engaging seminar covering everything you wanted to know about cremation\, death\, and taxes.<br />\n<br />\nWith President Trump signing the final version of the Tax Cuts and Jobs Act of 2017 into law\, you likely have questions as to how this massive overhaul of our tax system affects you and your family. Will my personal income taxes be lower? Can I really file my tax return on a postcard? Will the charitable contributions I make still be deductible? Is a reverse mortgage a good option for me?<br />\n<br />\nOther topics include recent changes to state medical assistance guidelines\, how they may impact you and your family\, and why it is more important than ever to have a plan in place to cover your final expenses. With more families looking for flexibility related to where and when a service or celebration of life is held\, we will discuss why cremation may be a choice for you to consider.<br />\n<br />\nA light lunch will be served\, and door prizes will be drawn. As space is limited\, please RSVP by calling the funeral home at 736-7064\, e-mailing info@glendenilson.com</span>
LOCATION:Glende-Nilson Funeral Homes 301 E Washington Ave\, Fergus Falls\, Minnesota
UID:e.314.50350
SEQUENCE:3
DTSTAMP:20260423T165526Z
URL:https://business.fergusfalls.com/events/details/cremation-taxes-death-oh-my-50350
END:VEVENT

END:VCALENDAR
