BEGIN:VCALENDAR
VERSION:2.0
PRODID:-//ChamberMaster//Event Calendar 2.0//EN
METHOD:PUBLISH
X-PUBLISHED-TTL:P3D
REFRESH-INTERVAL:P3D
CALSCALE:GREGORIAN
BEGIN:VEVENT
DTSTART:20210922T230000Z
DTEND:20210923T000000Z
X-MICROSOFT-CDO-ALLDAYEVENT:FALSE
SUMMARY:Cub Scout Sign-Up Event
DESCRIPTION:There's never been a better time to join Cub Scouts. We thrive in the outdoors and believe that playing in the dirt\, making fires and learning from mother nature is essential for boys and girls to grow into their very best future selves. It's fun\, hands-on learning and achievement based that puts kids in the middle of the action and prepares them for today   and for life. To find a pack near you\, please visit beascout.org
X-ALT-DESC;FMTTYPE=text/html:There&#39\;s never been a better time to join Cub Scouts. We thrive in the outdoors and believe that playing in the dirt\, making fires and learning from mother nature is essential for boys and girls to grow into their very best future selves. It&rsquo\;s fun\, hands-on learning and achievement based that puts kids in the middle of the action and prepares them for today &ndash\; and for life. To find a pack near you\, please visit beascout.org
LOCATION:Fergus Falls YMCA 1164 Friberg Ave. Fergus Falls\, MN
UID:e.314.63593
SEQUENCE:3
DTSTAMP:20260421T083229Z
URL:https://business.fergusfalls.com/events/details/cub-scout-sign-up-event-63593
END:VEVENT

END:VCALENDAR
