BEGIN:VCALENDAR
VERSION:2.0
PRODID:-//ChamberMaster//Event Calendar 2.0//EN
METHOD:PUBLISH
X-PUBLISHED-TTL:P3D
REFRESH-INTERVAL:P3D
CALSCALE:GREGORIAN
BEGIN:VEVENT
DTSTART:20180305T003000Z
DTEND:20180305T020000Z
X-MICROSOFT-CDO-ALLDAYEVENT:FALSE
SUMMARY:Cultivate Courage Presentation
DESCRIPTION:FEAR - The common denominator that holds our dreams captive.\n\nCOURAGE - The key to setting them free.\n\nYou are invited to come and hear my story of recognizing the need to be more courageous in my life. There is no charge for his event but please bring a canned or boxed food item for the Fergus Falls Food Shelf. Doors open at 6:00 and the presentation begins at 6:30.\n\n\n\nTo find out more about cultivating courage you can visit my website at http://www.cultivatecourage.com/
X-ALT-DESC;FMTTYPE=text/html:<span class="_4n-j _3cht fsl" data-testid="event-permalink-details">FEAR - The common denominator that holds our dreams captive.<br />\nCOURAGE - The key to setting them free.<br />\nYou are invited to come and hear my story of recognizing the need to be more courageous in my life. There is <strong>no charge</strong> for his event but please bring a canned or boxed food item for the Fergus Falls Food Shelf. Doors open at 6:00 and the presentation begins at 6:30.<br />\n<br />\nTo find out more about cultivating courage you can visit my website at <a data-lynx-mode="hover" data-lynx-uri="https://l.facebook.com/l.php?u=http%3A%2F%2Fwww.cultivatecourage.com%2F&amp\;h=ATP3b1TXMHOu2ARxH-eaAmT8yakZH5rKAc5yTTc4RYHp1_7d2Uouy9pA0FFjTds9rw1ByNc6Dy_JADPsDv3fS99hFu_Ne4dBS005FpLc5ouaeuKyvuylOUlTIJHI_C91X-rQKg1tfjOrW5VqX68" href="http://www.cultivatecourage.com/" rel="nofollow" target="_blank"><font color="#0066cc"><span>http://</span><wbr /></font><font color="#0066cc">www.cultivatecourage.com/</font></a></span>
LOCATION:Bethel Lutheran Church 702 W Alcott Ave Fergus Falls MN
UID:e.314.43889
SEQUENCE:3
DTSTAMP:20260424T012057Z
URL:https://business.fergusfalls.com/events/details/cultivate-courage-presentation-43889
END:VEVENT

END:VCALENDAR
