BEGIN:VCALENDAR
VERSION:2.0
PRODID:-//ChamberMaster//Event Calendar 2.0//EN
METHOD:PUBLISH
X-PUBLISHED-TTL:P3D
REFRESH-INTERVAL:P3D
CALSCALE:GREGORIAN
BEGIN:VEVENT
DTSTART:20180517T140000Z
DTEND:20180517T210000Z
X-MICROSOFT-CDO-ALLDAYEVENT:FALSE
SUMMARY:Current 245D Licensing Trends and Program Oversight Tips
DESCRIPTION:Staying current in your understanding of compliance is critical\, and our consulting team is back again with their updated licensing trends. You may have taken our previous tips and trends course\, but things have changed! Based on the knowledge we have gained from publicly published correction orders and information from our customers\, we have noticed an evolving licensing process with an increase in the number of citations\, the frequency of negative actions\, and an emphasis on ensuring Designated Coordinator and Designated Manager qualifications and responsibilities are being met. Even though you may have experienced a recent licensing review\, it is important to learn what additional areas may not have been included in your plan of correction. We will also explore the DC/DM requirements and job duties to ensure your agency is adequately fulfilling this vital role that has been highlighted in many correction orders. It is imperative to stay proactive with compliance rather than reactive. Join us for this interactive class to ensure you feel confident in compliance. ??
X-ALT-DESC;FMTTYPE=text/html:Staying current in your understanding of compliance is critical\, and our consulting team is back again with their updated licensing trends. You may have taken our previous tips and trends course\, but things have changed! Based on the knowledge we have gained from publicly published correction orders and information from our customers\, we have noticed an evolving licensing process with an increase in the number of citations\, the frequency of negative actions\, and an emphasis on ensuring Designated Coordinator and Designated Manager qualifications and responsibilities are being met. Even though you may have experienced a recent licensing review\, it is important to learn what additional areas may not have been included in your plan of correction. We will also explore the DC/DM requirements and job duties to ensure your agency is adequately fulfilling this vital role that has been highlighted in many correction orders. It is imperative to stay proactive with compliance rather than reactive. Join us for this interactive class to ensure you feel confident in compliance. ??
LOCATION:Country Inn & Suites / Bigwood Event Center 925 Western Ave\, Fergus Falls\, Minnesota 56537
UID:e.314.43887
SEQUENCE:3
DTSTAMP:20260423T223004Z
URL:https://business.fergusfalls.com/events/details/current-245d-licensing-trends-and-program-oversight-tips-43887
END:VEVENT

END:VCALENDAR
