BEGIN:VCALENDAR
VERSION:2.0
PRODID:-//ChamberMaster//Event Calendar 2.0//EN
METHOD:PUBLISH
X-PUBLISHED-TTL:P3D
REFRESH-INTERVAL:P3D
CALSCALE:GREGORIAN
BEGIN:VEVENT
DTSTART:20151001T160000Z
DTEND:20151001T180000Z
X-MICROSOFT-CDO-ALLDAYEVENT:FALSE
SUMMARY:Customer Appreciation Day- Bank of the West
DESCRIPTION:Bank Of The West hosts\n\nCustomer Appreciation Day!\n\n\n\nThursday Oct 1st\n\n11:00am-1:00pm\n\n\n\nGrilled Hotdogs and All The Fixings! \n\n\n\nBank Of The West\n\n120 N Mill St\n\nFergus Falls Mn 56537
X-ALT-DESC;FMTTYPE=text/html:<span style="font-size: 18px\;"><strong><span style="color: rgb(0\, 0\, 255)\;">Bank Of The West</span> hosts<br />\n<span style="color: rgb(255\, 0\, 0)\;">Customer Appreciation Day</span>!<br />\n<br />\nThursday Oct 1st<br />\n11:00am-1:00pm</strong></span><br />\n<br />\n<strong><em>Grilled Hotdogs and All The Fixings! </em></strong><br />\n<br />\n<strong>Bank Of The West<br />\n120 N Mill St<br />\nFergus Falls Mn 56537</strong><br />\n&nbsp\;
LOCATION:Bank Of The West 120 N Mill St Fergus Falls Mn 56537
UID:e.314.24322
SEQUENCE:3
DTSTAMP:20260426T030704Z
URL:https://business.fergusfalls.com/events/details/customer-appreciation-day-bank-of-the-west-10-01-2015-24322
END:VEVENT

END:VCALENDAR
