BEGIN:VCALENDAR
VERSION:2.0
PRODID:-//ChamberMaster//Event Calendar 2.0//EN
METHOD:PUBLISH
X-PUBLISHED-TTL:P3D
REFRESH-INTERVAL:P3D
CALSCALE:GREGORIAN
BEGIN:VEVENT
DTSTART:20180901T220000Z
DTEND:20180902T040000Z
X-MICROSOFT-CDO-ALLDAYEVENT:FALSE
SUMMARY:Customer Appreciation Party
DESCRIPTION:Want to thank everyone for another great year with a party!!!\n\nComplimentary beer\, food and music.\n\nVery excited to announce that Confusion will be playing in the evening with no cover charge.
X-ALT-DESC;FMTTYPE=text/html:<div class="_63ew" data-testid="event-permalink-details"><span>Want to thank everyone for another great year with a party!!!<br />\nComplimentary beer\, food and music.<br />\nVery excited to announce that Confusion will be playing in the evening with no cover charge.</span></div>\n
LOCATION:Stalker Lake Golf Course Bar & Grill 15876 Golf Course Rd\, Dalton MN
UID:e.314.50326
SEQUENCE:3
DTSTAMP:20260423T164158Z
URL:https://business.fergusfalls.com/events/details/customer-appreciation-party-50326
END:VEVENT

END:VCALENDAR
