BEGIN:VCALENDAR
VERSION:2.0
PRODID:-//ChamberMaster//Event Calendar 2.0//EN
METHOD:PUBLISH
X-PUBLISHED-TTL:P3D
REFRESH-INTERVAL:P3D
CALSCALE:GREGORIAN
BEGIN:VEVENT
DTSTART:20181008T210000Z
DTEND:20181008T233000Z
X-MICROSOFT-CDO-ALLDAYEVENT:FALSE
SUMMARY:Dad's Belgian Waffle Fundraiser
DESCRIPTION:This is the Senior Center's Fall Fundraiser. Dad's Belgian Waffles will make delicious link sausages and waffles with a variety of syrups and toppings. Beverages will also be served. Tickets can be purchased in advance at the Fergus Falls Senior Center. Carr-out plates available.
X-ALT-DESC;FMTTYPE=text/html:This is the Senior Center&#39\;s Fall Fundraiser. Dad&#39\;s Belgian Waffles will make delicious link sausages and waffles with a variety of syrups and toppings. Beverages will also be served. Tickets can be purchased in advance at the Fergus Falls Senior Center. Carr-out plates available.
LOCATION:Fergus Falls Senior Center 115 Lincoln Ave W. Fergus Falls MN
UID:e.314.50367
SEQUENCE:3
DTSTAMP:20260423T150615Z
URL:https://business.fergusfalls.com/events/details/dad-s-belgian-waffle-fundraiser-50367
END:VEVENT

END:VCALENDAR
